BEGIN:VCALENDAR
VERSION:2.0
PRODID:-//ChamberMaster//Event Calendar 2.0//EN
METHOD:PUBLISH
X-PUBLISHED-TTL:P3D
REFRESH-INTERVAL:P3D
CALSCALE:GREGORIAN
BEGIN:VEVENT
DTSTART;VALUE=DATE:20160815
DTEND;VALUE=DATE:20160816
TRANSP:TRANSPARENT
X-MICROSOFT-CDO-ALLDAYEVENT:TRUE
SUMMARY:Counting Crows and Rob Thomas
DESCRIPTION:Counting Crows\, Rob Thomas\, and K. Phillips    \n\nFor more information and to purchase tickets visit www.livenation.com
X-ALT-DESC;FMTTYPE=text/html:Counting Crows\, Rob Thomas\, and K. Phillips&nbsp\;&nbsp\;&nbsp\;&nbsp\;<br />\nFor more information and to purchase tickets visit www.livenation.com&nbsp\;&nbsp\;&nbsp\;&nbsp\;
LOCATION:Saratoga Performing Arts Center 108 Avenue of the Pines Saratoga Springs\, NY 12866
UID:e.2254.16336
SEQUENCE:3
DTSTAMP:20260421T002204Z
URL:https://chamber.saratoga.org/events/details/counting-crows-and-rob-thomas-08-15-2016-16336
END:VEVENT

END:VCALENDAR
