BEGIN:VCALENDAR
VERSION:2.0
PRODID:-//ChamberMaster//Event Calendar 2.0//EN
METHOD:PUBLISH
X-PUBLISHED-TTL:P3D
REFRESH-INTERVAL:P3D
CALSCALE:GREGORIAN
BEGIN:VEVENT
DTSTART:20161026T213000Z
DTEND:20161026T223000Z
X-MICROSOFT-CDO-ALLDAYEVENT:FALSE
SUMMARY:CoolSculpting SEMINAR @ The Williams Rejuva Center
DESCRIPTION:With the CoolSculpting procedure and Williams Rejuva Center you can\n\neliminate stubborn fat without surgery or downtime.\n\n\nJoin us on Wednesday\, October 26th at 5:30pm to find out how you can reshape your body with CoolSculpting.\n\n\n\n*NEW! Introducing CoolAdvantage\, our 2 new applicators- less time and more surface area for treatments.\n\n*Offering CoolSculpting for Chins. Learn more during our event.\n\n*Offering 25% Off PLUS Special Offers\n\n*Meet our team of CoolSculpt Specialists.\n\n*Our CoolSculpt Specialists\, are trained under the direction of Dr. Alain Polynice ~ The Breast & Body Specialist.\n\n*No Surgery\, No Downtime\, No Needles....\n\n*Evening and Weekend appointments available\n\n*Light Refreshments\n\nCome see what all the fuss is about\, and know you are in good hands with our team of SPECIALISTS!\n\n\n\nRESERVATIONS REQUIRED please call 786-7004\n\nor email Tatyana@williamsfacialsurgery.com
X-ALT-DESC;FMTTYPE=text/html:<div style="text-align:center"><span style="color:#0000CD"><strong>With the CoolSculpting procedure and Williams Rejuva Center you can<br />\neliminate stubborn fat without surgery or downtime.</strong></span></div>\n<br />\n<span style="color:#000080"><em>Join us on Wednesday\, October 26th at 5:30pm to find out how you can reshape your body with CoolSculpting.</em></span><br />\n<br />\n<strong>*NEW! Introducing CoolAdvantage\, our 2 new applicators- less time and more surface area for treatments.<br />\n*Offering CoolSculpting for Chins. Learn more during our event.<br />\n*Offering 25% Off PLUS Special Offers<br />\n*Meet our team of CoolSculpt Specialists.<br />\n*Our CoolSculpt Specialists\, are trained under the direction of Dr. Alain Polynice ~ The Breast &amp\; Body Specialist.<br />\n*No Surgery\, No Downtime\, No Needles....<br />\n*Evening and Weekend appointments available<br />\n*Light Refreshments</strong>\n\n<div style="text-align:center"><strong>Come see what all the fuss is about\, and know you are in good hands with our team of SPECIALISTS!<br />\n<br />\nRESERVATIONS REQUIRED please call 786-7004<br />\nor email Tatyana@williamsfacialsurgery.com </strong></div>\n
LOCATION:1072 Troy Schenectady Rd. Latham\, NY 12110
UID:e.2254.20785
SEQUENCE:3
DTSTAMP:20260420T214646Z
URL:https://chamber.saratoga.org/events/details/coolsculpting-seminar-the-williams-rejuva-center-20785
END:VEVENT

END:VCALENDAR
