BEGIN:VCALENDAR
VERSION:2.0
PRODID:-//ChamberMaster//Event Calendar 2.0//EN
METHOD:PUBLISH
X-PUBLISHED-TTL:P3D
REFRESH-INTERVAL:P3D
CALSCALE:GREGORIAN
BEGIN:VEVENT
DTSTART:20160518T213000Z
DTEND:20160518T223000Z
X-MICROSOFT-CDO-ALLDAYEVENT:FALSE
SUMMARY:Coolsculpting Event
DESCRIPTION:With the coolsculpting procedure and the Williams Rejuva Center specialists\n\nyou can eliminate stubborn fat without surgery or downtime.\n\n\n\nJoin us on Wednesday\, May 18th at 5:30pm to find out\n\nhow you can reshape your body with CoolSculpting.\n\n\n\n*NOW offering CoolSculpting for Chins. Learn more during our event.\n\n*Offering 25% Off PLUS Special Offers\n\n*Meet our team of CoolSculpt Specialists.\n\n*Our CoolSculpt Specialists\, are trained under the direction of Dr. Alain Polynice ~ The Breast & Body Specialist.\n\n*An individual treatment plan is created specifically for YOU!\n\n*No Surgery\, No Downtime\, No Needles....\n\n*Affordable\n\n*Evening and Weekend appointments available\n\n*Light Refreshments\n\n\n\nCome see what all the fuss is about\, and know you are in good hands with our team of SPECIALISTS!\n\nCALL TO MAKE YOUR RESERVATION! - 518-786-7000
X-ALT-DESC;FMTTYPE=text/html:<div style="text-align:center"><span style="font-size:14px">With the coolsculpting procedure and the Williams Rejuva Center specialists<br />\nyou can eliminate stubborn fat without surgery or downtime.<br />\n<br />\nJoin us on Wednesday\, May 18th at 5:30pm to find out<br />\nhow you can reshape your body with CoolSculpting.<br />\n<br />\n*NOW offering CoolSculpting for Chins. Learn more during our event.<br />\n*Offering 25% Off PLUS Special Offers<br />\n*Meet our team of CoolSculpt Specialists.<br />\n*Our CoolSculpt Specialists\, are trained under the direction of Dr. Alain Polynice ~ The Breast &amp\; Body Specialist.<br />\n*An individual treatment plan is created specifically for YOU!<br />\n*No Surgery\, No Downtime\, No Needles....<br />\n*Affordable<br />\n*Evening and Weekend appointments available<br />\n*Light Refreshments</span><br />\n<br />\nCome see what all the fuss is about\, and know you are in good hands with our team of SPECIALISTS!<br />\n<span style="color:#0000CD"><span style="font-size:24px"><em><strong>CALL TO MAKE YOUR RESERVATION! - 518-786-7000</strong></em></span></span></div>\n
LOCATION:The Williams Rejuva Center 1072 Troy-Schenectady Rd Latham NY 12110
UID:e.2254.16808
SEQUENCE:3
DTSTAMP:20260421T223842Z
URL:https://chamber.saratoga.org/events/details/coolsculpting-event-05-18-2016-16808
END:VEVENT

END:VCALENDAR
