BEGIN:VCALENDAR
VERSION:2.0
PRODID:-//ChamberMaster//Event Calendar 2.0//EN
METHOD:PUBLISH
X-PUBLISHED-TTL:P3D
REFRESH-INTERVAL:P3D
CALSCALE:GREGORIAN
BEGIN:VEVENT
DTSTART:20150312T230000Z
DTEND:20150313T020000Z
X-MICROSOFT-CDO-ALLDAYEVENT:FALSE
SUMMARY:Conversations with Anne Frank and Martin Luther King
DESCRIPTION:"Letters from Anne and Martin" is a unique production that combines the iconic voices of Anne Frank and Martin Luther King\, Jr. Developed from excerpts from The Diary of Anne Frank and Dr. King's Letter from Birmingham Jail\, this piece evokes the important messages from these legendary figures\, as they write of their hopes and plans for a peaceful and unified world. 7 p.m.-Filene Recital Hall For more information call 518-580-5679
X-ALT-DESC;FMTTYPE=text/html:&quot\;Letters from Anne and Martin&quot\; is a unique production that combines the iconic voices of Anne Frank and Martin Luther King\, Jr. Developed from excerpts from The Diary of Anne Frank and Dr. King&#39\;s Letter from Birmingham Jail\, this piece evokes the important messages from these legendary figures\, as they write of their hopes and plans for a peaceful and unified world. 7 p.m.-Filene Recital Hall For more information call 518-580-5679
LOCATION:Filene Recital Hall Skidmore College 815 N Broadway Saratoga Springs\, NY 12866
UID:e.2254.6143
SEQUENCE:3
DTSTAMP:20260423T214357Z
URL:https://chamber.saratoga.org/events/details/conversations-with-anne-frank-and-martin-luther-king-03-12-2015-6143
END:VEVENT

END:VCALENDAR
