BEGIN:VCALENDAR
VERSION:2.0
PRODID:-//ChamberMaster//Event Calendar 2.0//EN
METHOD:PUBLISH
X-PUBLISHED-TTL:P3D
REFRESH-INTERVAL:P3D
CALSCALE:GREGORIAN
BEGIN:VEVENT
DTSTART:20160605T150000Z
DTEND:20160605T170000Z
X-MICROSOFT-CDO-ALLDAYEVENT:FALSE
SUMMARY:Congregation Shaara Tfille & The Jewish Community Center of Saratoga Springs hos
DESCRIPTION:On Sunday\, June 5 from 11am-1pm\, Congregation Shaara Tfille and The Jewish Community Center will be hosting an Open House at 84 Weibel Avenue in Saratoga Springs. Open to the community\, tours will be conducted of the Synagogue\, beautiful sanctuary\, spacious social hall\, kosher kitchen\, classrooms\, library and cemetery. Guests can meet Rabbi/Cantor Kenneth Blatt\, Board members and other Congregants\, learn about services and many programs and register children for Hebrew School. For more information\, call 584-2370 or saratogajcc@albany.twcbc.com.
X-ALT-DESC;FMTTYPE=text/html:On Sunday\, June 5 from 11am-1pm\, Congregation Shaara Tfille and The Jewish Community Center will be hosting an Open House at 84 Weibel Avenue in Saratoga Springs. Open to the community\, tours will be conducted of the Synagogue\, beautiful sanctuary\, spacious social hall\, kosher kitchen\, classrooms\, library and cemetery. Guests can meet Rabbi/Cantor Kenneth Blatt\, Board members and other Congregants\, learn about services and many programs and register children for Hebrew School. For more information\, call 584-2370 or saratogajcc@albany.twcbc.com.
LOCATION:The Jewish Community Center 84 Weibel Ave\, Saratoga Springs
UID:e.2254.16929
SEQUENCE:3
DTSTAMP:20260421T081150Z
URL:https://chamber.saratoga.org/events/details/congregation-shaara-tfille-the-jewish-community-center-of-saratoga-springs-hos-06-05-2016-16929
END:VEVENT

END:VCALENDAR
