BEGIN:VCALENDAR
VERSION:2.0
PRODID:-//ChamberMaster//Event Calendar 2.0//EN
METHOD:PUBLISH
X-PUBLISHED-TTL:P3D
REFRESH-INTERVAL:P3D
CALSCALE:GREGORIAN
BEGIN:VEVENT
DTSTART:20150531T170000Z
DTEND:20150531T190000Z
X-MICROSOFT-CDO-ALLDAYEVENT:FALSE
SUMMARY:Congregation Shaara Tfille/JCC honoring Sondra Silverhart
DESCRIPTION:Congregation Shaara Tfille/Jewish Community Center of Saratoga Springs honoring Sondra G. Silverhart as the 2015 Eshet Chayil or Woman of Valor. Sondra (Sandy) has been a trailblazer for women in our community. She was a very successful businesswoman and involved community member. Sandy is an extraordinary Ambassador\, a role model to many and beloved by our Synagogue\, fellow businesspeople\, community and her family and friends. She was absolutely floored when we gave her the news\, but we insisted because she definitely deserves to be publicly recognized in a way that acknowledges the love and respect people have for her. This tribute is an opportunity to recognize her. For more information\, 584-2370  saratogajcc@verizon.net \, saratogasynagogue.org
X-ALT-DESC;FMTTYPE=text/html:Congregation Shaara Tfille/Jewish Community Center of Saratoga Springs honoring Sondra G. Silverhart as the 2015 Eshet Chayil or Woman of Valor. Sondra (Sandy) has been a trailblazer for women in our community. She was a very successful businesswoman and involved community member. Sandy is an extraordinary Ambassador\, a role model to many and beloved by our Synagogue\, fellow businesspeople\, community and her family and friends. She was absolutely floored when we gave her the news\, but we insisted because she definitely deserves to be publicly recognized in a way that acknowledges the love and respect people have for her. This tribute is an opportunity to recognize her. For more information\, 584-2370 &nbsp\;saratogajcc@verizon.net \, saratogasynagogue.org
LOCATION:Congregation Shaara Tfille/The Jewish Community Center of Saratoga Springs 84 Weibel Avenue
UID:e.2254.6705
SEQUENCE:3
DTSTAMP:20260423T164916Z
URL:https://chamber.saratoga.org/events/details/congregation-shaara-tfille-jcc-honoring-sondra-silverhart-05-31-2015-6705
END:VEVENT

END:VCALENDAR
