BEGIN:VCALENDAR
VERSION:2.0
PRODID:-//ChamberMaster//Event Calendar 2.0//EN
METHOD:PUBLISH
X-PUBLISHED-TTL:P3D
REFRESH-INTERVAL:P3D
CALSCALE:GREGORIAN
BEGIN:VEVENT
DTSTART:20161218T160000Z
DTEND:20161218T180000Z
X-MICROSOFT-CDO-ALLDAYEVENT:FALSE
SUMMARY:Congregation Shaara Tfille celebrates Chanukah with Sylvia Fletcher and her Magi
DESCRIPTION:Congregation Shaara Tfille and The Jewish Community Center of Saratoga Springs\, located at 84 Weibel Avenue in Saratoga Springs\, will have a Chanukah Celebration on December 18th at 11:00am. Entertainment will feature professional Ventriloquist\, Comedian and Actress Sylvia Fletcher and her Magic Trunk. Sylvia dazzles her audiences with her amazing talent\, lively unforgettable characters\, inanimate objects and voice illusions. Her performances and show is a production that incorporates her hilarious\, intriguing world of comedy that is described as "VENTASTIC". The festivities include a dairy luncheon featuring latkes\, children performing and lighting the Menorah. The cost is $10.00 per person over age 16\; free for children under 16. Reservations by Wednesday\, December 14 to 584-2370. The event is sponsored by a generous grant from Jewish Federation of Northeast NY.
X-ALT-DESC;FMTTYPE=text/html:Congregation Shaara Tfille and The Jewish Community Center of Saratoga Springs\, located at 84 Weibel Avenue in Saratoga Springs\, will have a Chanukah Celebration on December 18th at 11:00am. Entertainment will feature professional Ventriloquist\, Comedian and Actress Sylvia Fletcher and her Magic Trunk. Sylvia dazzles her audiences with her amazing talent\, lively unforgettable characters\, inanimate objects and voice illusions. Her performances and show is a production that incorporates her hilarious\, intriguing world of comedy that is described as &quot\;VENTASTIC&quot\;. The festivities include a dairy luncheon featuring latkes\, children performing and lighting the Menorah. The cost is $10.00 per person over age 16\; free for children under 16. Reservations by Wednesday\, December 14 to 584-2370. The event is sponsored by a generous grant from Jewish Federation of Northeast NY.
LOCATION:Congregation Shaara Tfille and The Jewish Community Center of Saratoga Springs\, located at 84 Weibel Avenue in Saratoga Springs
UID:e.2254.21433
SEQUENCE:3
DTSTAMP:20260420T184411Z
URL:https://chamber.saratoga.org/events/details/congregation-shaara-tfille-celebrates-chanukah-with-sylvia-fletcher-and-her-magi-21433
END:VEVENT

END:VCALENDAR
