BEGIN:VCALENDAR
VERSION:2.0
PRODID:-//ChamberMaster//Event Calendar 2.0//EN
METHOD:PUBLISH
X-PUBLISHED-TTL:P3D
REFRESH-INTERVAL:P3D
CALSCALE:GREGORIAN
BEGIN:VEVENT
DTSTART:20150302T010000Z
DTEND:20150302T030000Z
X-MICROSOFT-CDO-ALLDAYEVENT:FALSE
SUMMARY:Concert: Skidmore Jazz Institute Sextet
DESCRIPTION:This all-star group is led by Todd Coolman on bass\, and features Mike Rodriguez\, trumpet\; Jimmy Greene\, tenor saxophone\; James Burton III\, trombone\; Bill Cunliffe\, piano\; and Dennis Mackrel\, drums.
X-ALT-DESC;FMTTYPE=text/html:This all-star group is led by Todd Coolman on bass\, and features Mike Rodriguez\, trumpet\; Jimmy Greene\, tenor saxophone\; James Burton III\, trombone\; Bill Cunliffe\, piano\; and Dennis Mackrel\, drums.
LOCATION:Arthur Zankel Music Center\, Ladd Concert Hall Skidmore College 815 North Boradway Saratoga Springs\, NY 12866
UID:e.2254.6132
SEQUENCE:3
DTSTAMP:20260423T214704Z
URL:https://chamber.saratoga.org/events/details/concert-skidmore-jazz-institute-sextet-03-01-2015-6132
END:VEVENT

END:VCALENDAR
