BEGIN:VCALENDAR
VERSION:2.0
PRODID:-//ChamberMaster//Event Calendar 2.0//EN
METHOD:PUBLISH
X-PUBLISHED-TTL:P3D
REFRESH-INTERVAL:P3D
CALSCALE:GREGORIAN
BEGIN:VEVENT
DTSTART:20150926T170000Z
DTEND:20150926T180000Z
X-MICROSOFT-CDO-ALLDAYEVENT:FALSE
SUMMARY:Concert: Father/Daughter Duo
DESCRIPTION:Part of Saratoga Peace Week. Toussaint Liberator and his 10 year old daughter will provide original and traditional music with soul roots. Also\, A Fashion Show of the Dress A Girl Project will be presented. Refreshments will be provided.
X-ALT-DESC;FMTTYPE=text/html:Part of Saratoga Peace Week. Toussaint Liberator and his 10 year old daughter will provide original and traditional music with soul roots. Also\, A Fashion Show of the Dress A Girl Project will be presented. Refreshments will be provided.
LOCATION:Saratoga Public Library 49 Henry St
UID:e.2254.12341
SEQUENCE:3
DTSTAMP:20260423T005651Z
URL:https://chamber.saratoga.org/events/details/concert-father-daughter-duo-09-26-2015-12341
END:VEVENT

END:VCALENDAR
