BEGIN:VCALENDAR
VERSION:2.0
PRODID:-//ChamberMaster//Event Calendar 2.0//EN
METHOD:PUBLISH
X-PUBLISHED-TTL:P3D
REFRESH-INTERVAL:P3D
CALSCALE:GREGORIAN
BEGIN:VEVENT
DTSTART:20150308T010000Z
DTEND:20150308T030000Z
X-MICROSOFT-CDO-ALLDAYEVENT:FALSE
SUMMARY:Concert by American String Quartet
DESCRIPTION:Internationally recognized as one of the world?s foremost quartets\, the American String Quartet returns to the Skidmore String Festival for the third time as artists-in-residence. 8 p.m.-Arthur Zankel Music Center\, Ladd Concert Hall $8 adults\, $5 senior citizens and Skidmore community\; free for students and children For more information call 518-580-5321 or go to www.skidmore.edu/Zankel
X-ALT-DESC;FMTTYPE=text/html:Internationally recognized as one of the world?s foremost quartets\, the American String Quartet returns to the Skidmore String Festival for the third time as artists-in-residence. 8 p.m.-Arthur Zankel Music Center\, Ladd Concert Hall $8 adults\, $5 senior citizens and Skidmore community\; free for students and children For more information call 518-580-5321 or go to www.skidmore.edu/Zankel
LOCATION:Arthur Zankel Music Center\, Ladd Concert Hall \, Skidmore College 815 N Broadway Saratoga Springs\, NY 12866
UID:e.2254.6139
SEQUENCE:3
DTSTAMP:20260423T214015Z
URL:https://chamber.saratoga.org/events/details/concert-by-american-string-quartet-03-07-2015-6139
END:VEVENT

END:VCALENDAR
