BEGIN:VCALENDAR
VERSION:2.0
PRODID:-//ChamberMaster//Event Calendar 2.0//EN
METHOD:PUBLISH
X-PUBLISHED-TTL:P3D
REFRESH-INTERVAL:P3D
CALSCALE:GREGORIAN
BEGIN:VEVENT
DTSTART:20150301T170000Z
DTEND:20150301T193000Z
X-MICROSOFT-CDO-ALLDAYEVENT:FALSE
SUMMARY:Community Purim Carnival
DESCRIPTION:Temple Sinai\, with funding from the Jewish Federation of NENY\, will host a fun-filled Community Purim Carnival on Sunday\, March 1st (12:00-2:30pm) at Wilton's Gavin Park. Featuring more than 20 interactive games and 2 huge bouncy bounces\, children of all ages will also enjoy dancing with the DJ\, raffles\, balloon art with Mr. and Mrs. Bill\, and prizes galore for everyone. Community members of all religions are welcome! Admission is free. Tickets are fifty cents each (all games one ticket and all rides two tickets). There will also be discount wristbands for unlimited games and rides. Hot dogs\, pizza\, popcorn and other refreshments will be available for purchase. Purim is a holiday celebrating a biblical story about overcoming racism and oppression. It is traditionally celebrated with costume and much revelry\, and has been called "the Jewish Mardi Gras"! It's the biggest party of the Jewish year.
X-ALT-DESC;FMTTYPE=text/html:Temple Sinai\, with funding from the Jewish Federation of NENY\, will host a fun-filled Community Purim Carnival on Sunday\, March 1st (12:00-2:30pm) at Wilton&#39\;s Gavin Park. Featuring more than 20 interactive games and 2 huge bouncy bounces\, children of all ages will also enjoy dancing with the DJ\, raffles\, balloon art with Mr. and Mrs. Bill\, and prizes galore for everyone. Community members of all religions are welcome! Admission is free. Tickets are fifty cents each (all games one ticket and all rides two tickets). There will also be discount wristbands for unlimited games and rides. Hot dogs\, pizza\, popcorn and other refreshments will be available for purchase. Purim is a holiday celebrating a biblical story about overcoming racism and oppression. It is traditionally celebrated with costume and much revelry\, and has been called &quot\;the Jewish Mardi Gras&quot\;! It&#39\;s the biggest party of the Jewish year.
LOCATION:Wilton's Gavin Park Saratoga Springs\, NY 12866
UID:e.2254.6042
SEQUENCE:3
DTSTAMP:20260423T225724Z
URL:https://chamber.saratoga.org/events/details/community-purim-carnival-03-01-2015-6042
END:VEVENT

END:VCALENDAR
