BEGIN:VCALENDAR
VERSION:2.0
PRODID:-//ChamberMaster//Event Calendar 2.0//EN
METHOD:PUBLISH
X-PUBLISHED-TTL:P3D
REFRESH-INTERVAL:P3D
CALSCALE:GREGORIAN
BEGIN:VEVENT
DTSTART:20161110T223000Z
DTEND:20161111T023000Z
X-MICROSOFT-CDO-ALLDAYEVENT:FALSE
SUMMARY:Comics Care: Comedians Touched by Cancer Give Back
DESCRIPTION:Join us for a night of cocktails and comedy to benefit Saratoga Hospital's Cancer Patient Fund! Local comedian Jodi Weiner and her husband\, fellow comedian Vinnie Mark\, are paying it forward\, inspired by the care Jodi received at Saratoga Hospital's Mollie Wilmot Radiation Oncology Center. Also featuring Chris Monty and special guest Mike Speirs. Showtime is 8:00 p.m. Doors will open at 7:00 p.m. From 5:30 to 8:00 p.m. enjoy drink and appetizer specials at Diamond Club Grill (located within the hotel).
X-ALT-DESC;FMTTYPE=text/html:Join us for a night of cocktails and comedy to benefit Saratoga Hospital&rsquo\;s Cancer Patient Fund! Local comedian Jodi Weiner and her husband\, fellow comedian Vinnie Mark\, are paying it forward\, inspired by the care Jodi received at Saratoga Hospital&rsquo\;s Mollie Wilmot Radiation Oncology Center. Also featuring Chris Monty and special guest Mike Speirs. Showtime is 8:00 p.m. Doors will open at 7:00 p.m. From 5:30 to 8:00 p.m. enjoy drink and appetizer specials at Diamond Club Grill (located within the hotel).
LOCATION:Embassy Suites\, 86 Congress Street\, Saratoga Springs
UID:e.2254.20892
SEQUENCE:3
DTSTAMP:20260420T214532Z
URL:https://chamber.saratoga.org/events/details/comics-care-comedians-touched-by-cancer-give-back-20892
END:VEVENT

END:VCALENDAR
