BEGIN:VCALENDAR
VERSION:2.0
PRODID:-//ChamberMaster//Event Calendar 2.0//EN
METHOD:PUBLISH
X-PUBLISHED-TTL:P3D
REFRESH-INTERVAL:P3D
CALSCALE:GREGORIAN
BEGIN:VEVENT
DTSTART:20150627T010000Z
DTEND:20150627T023000Z
X-MICROSOFT-CDO-ALLDAYEVENT:FALSE
SUMMARY:Comedy's Best Kept Secret
DESCRIPTION:A group of New York City comedians hit the road for their monthly stop in Saratoga Springs. This month features show favorite Matt Richards (Oxygen Network\, Comedy Central)\, Dan Frigolette (Boardwalk Empire\, Totally Biased\, Artie Lange Show)\, John Saponaro (Make Me Laugh Albany\, Finger Lakes Comedy Festival) and Saratoga's own Sara DeForest (Winner of the Comedy Machine Comeptition\, Best of San Francisco Comedy). And as always\, maybe a surprise guest (or two). Overall\, you'll see an amazingly talented group of comedians who haven't made it into the limelight... YET.
X-ALT-DESC;FMTTYPE=text/html:A group of New York City comedians hit the road for their monthly stop in Saratoga Springs. This month features show favorite Matt Richards (Oxygen Network\, Comedy Central)\, Dan Frigolette (Boardwalk Empire\, Totally Biased\, Artie Lange Show)\, John Saponaro (Make Me Laugh Albany\, Finger Lakes Comedy Festival) and Saratoga&#39\;s own Sara DeForest (Winner of the Comedy Machine Comeptition\, Best of San Francisco Comedy). And as always\, maybe a surprise guest (or two). Overall\, you&#39\;ll see an amazingly talented group of comedians who haven&#39\;t made it into the limelight... YET.
LOCATION:The Parting Glass 40 Lake Avenue\, Saratoga Springs\, NY 12866
UID:e.2254.9617
SEQUENCE:3
DTSTAMP:20260423T072659Z
URL:https://chamber.saratoga.org/events/details/comedy-s-best-kept-secret-06-26-2015-9617
END:VEVENT

END:VCALENDAR
