BEGIN:VCALENDAR
VERSION:2.0
PRODID:-//ChamberMaster//Event Calendar 2.0//EN
METHOD:PUBLISH
X-PUBLISHED-TTL:P3D
REFRESH-INTERVAL:P3D
CALSCALE:GREGORIAN
BEGIN:VEVENT
DTSTART:20151004T130000Z
DTEND:20151004T180000Z
X-MICROSOFT-CDO-ALLDAYEVENT:FALSE
SUMMARY:Color Me Rad 5K Support Special Olympics New York!
DESCRIPTION:Start out as clean as a newborn babe\, and throughout the run\, our volunteers will coat you with liquids\, powders\, and gels of blue\, green\, pink\, purple\, and yellow until your face\, shirt\, and body come out silkscreened like a tie-dyed hippie on the other side. Each section of the run adds a new explosion of color to your clean\, painter's palate until you cross the finish line into a final blitzkrieg of color.\n\n\n\nWant to support Special Olympics New York as a runner or a volunteer? Volunteers will be needed the Friday\, Saturday\, and Sunday during the 5K weekend.\n\n	To volunteer click here!\n	To be a runner click here!
X-ALT-DESC;FMTTYPE=text/html:Start out as clean as a newborn babe\, and throughout the run\, our volunteers will coat you&nbsp\;with liquids\, powders\, and gels of&nbsp\;blue\, green\, pink\, purple\, and yellow until your face\, shirt\, and body come out silkscreened like a tie-dyed hippie on the other side. Each section of the run adds a new explosion of color to your clean\, painter&rsquo\;s palate until you cross the finish line into a final blitzkrieg of color.<br />\n<br />\nWant to support Special Olympics New York as a runner or a volunteer? Volunteers will be needed the Friday\, Saturday\, and Sunday during the 5K weekend.\n<ul>\n	<li><strong><a href="http://bit.ly/1NHM8Dy" target="_blank">To volunteer click here!</a></strong></li>\n	<li><strong><a href="http://bit.ly/1Kw8Kl6" target="_blank">To be a runner click here!</a></strong>\n	<ul>\n	</ul>\n	</li>\n</ul>\n
LOCATION:Saratoga Spa State Parke Orenda Pavilion
UID:e.2254.12390
SEQUENCE:3
DTSTAMP:20260422T130733Z
URL:https://chamber.saratoga.org/events/details/color-me-rad-5k-support-special-olympics-new-york-10-04-2015-12390
END:VEVENT

END:VCALENDAR
