BEGIN:VCALENDAR
VERSION:2.0
PRODID:-//ChamberMaster//Event Calendar 2.0//EN
METHOD:PUBLISH
X-PUBLISHED-TTL:P3D
REFRESH-INTERVAL:P3D
CALSCALE:GREGORIAN
BEGIN:VEVENT
DTSTART:20140806T103000Z
DTEND:20140806T120000Z
X-MICROSOFT-CDO-ALLDAYEVENT:FALSE
SUMMARY:Collaborative Breakfast with the Rensselaer County Chamber
DESCRIPTION:You are invited to start your morning off on the patio of the Track while making connections from a neighboring ChamberThe Saratoga County Chamber of Commerce and the Rensselaer County Regional Chamber of Commerce are teaming up to for a collaborative networking breakfast at the Saratoga Race Course. You are invited to attend and meet members from both Chambers while enjoying breakfast just a short distance away from the horses warming up. Cost is $25 cash\, payable the morning of the event. Pre-reservation is appreciated to have a better sense of how many people will be attending.
X-ALT-DESC;FMTTYPE=text/html:<p>You are invited to start your morning off on the patio of the Track while making connections from a neighboring Chamber</p><p>The Saratoga County Chamber of Commerce and the Rensselaer County Regional Chamber of Commerce are teaming up to for a collaborative networking breakfast at the Saratoga Race Course. You are invited to attend and meet members from both Chambers while enjoying breakfast just a short distance away from the horses warming up. Cost is $25 cash\, payable the morning of the event. Pre-reservation is appreciated to have a better sense of how many people will be attending.</p>
LOCATION:Saratoga Race Course
UID:e.2254.246
SEQUENCE:3
DTSTAMP:20260424T153506Z
URL:https://chamber.saratoga.org/events/details/collaborative-breakfast-with-the-rensselaer-county-chamber-08-06-2014-246
END:VEVENT

END:VCALENDAR
