BEGIN:VCALENDAR
VERSION:2.0
PRODID:-//ChamberMaster//Event Calendar 2.0//EN
METHOD:PUBLISH
X-PUBLISHED-TTL:P3D
REFRESH-INTERVAL:P3D
CALSCALE:GREGORIAN
BEGIN:VEVENT
DTSTART:20160406T143000Z
DTEND:20160406T153000Z
X-MICROSOFT-CDO-ALLDAYEVENT:FALSE
SUMMARY:Collaboration Between Credit Unions--Launch of New ATM
DESCRIPTION:Please join us for a ribbon cutting ceremony on Wednesday\, April 6\, 2016 at 10:30am to celebrate the collaboration between two credit unions Saratoga's Community Federal Credit Union and First New York Federal Credit Union where together we launched a state of the art CO-OP NextGen ATM. The event will be held at Saratoga's Community Federal Credit Union's Downtown Saratoga Branch\, 23 Division Street\, Saratoga Springs\, NY.
X-ALT-DESC;FMTTYPE=text/html:<p><span style="line-height:1.6">Please join us for a ribbon cutting ceremony on </span><strong style="line-height:1.6"><u>Wednesday\, April 6\, 2016 at 10:30am</u></strong><strong style="line-height:1.6">&nbsp\;</strong><span style="line-height:1.6">to celebrate the</span>&nbsp\;collaboration between two credit unions Saratoga&rsquo\;s Community Federal Credit Union and First New York Federal Credit Union where together we launched a state of the art CO-OP NextGen ATM.<span style="line-height:1.6">&nbsp\;The event will be held at Saratoga&#39\;s Community Federal Credit Union&#39\;s Downtown Saratoga Branch\, 23 Division Street\, Saratoga Springs\, NY. &nbsp\;</span><br />\n<br />\n<br />\n&nbsp\;</p>\n
LOCATION:23 Division Street\, Saratoga Springs\, NY 12866
UID:e.2254.15024
SEQUENCE:3
DTSTAMP:20260421T164032Z
URL:https://chamber.saratoga.org/events/details/collaboration-between-credit-unions-launch-of-new-atm-04-06-2016-15024
END:VEVENT

END:VCALENDAR
