BEGIN:VCALENDAR
VERSION:2.0
PRODID:-//ChamberMaster//Event Calendar 2.0//EN
METHOD:PUBLISH
X-PUBLISHED-TTL:P3D
REFRESH-INTERVAL:P3D
CALSCALE:GREGORIAN
BEGIN:VEVENT
DTSTART:20150404T030000Z
DTEND:20150404T030000Z
X-MICROSOFT-CDO-ALLDAYEVENT:FALSE
SUMMARY:Code Blue 8K Race - 04/03/2015
DESCRIPTION:Code Blue was created to help the citizens of Saratoga Springs who are in need.Code Blue was created to help the citizens of Saratoga Springs who are in need. After a very successful opening winter\, a committee was formed to create an 8k road race to support this essential cause. Proceeds from this event will go toward the future growth of this extremely necessary shelter. Saratoga's first 8k road race starts on High Rock Avenue and rolls its way through the charming neighborhood streets of the East Side with an out and back on the beautifully designed City's "Spring Trail". The course layout is front loaded with a few challenging hills\, then it levels off with more than 5k remaining\, making it flat and fast. This annual 8k road race will be held on Saturday of Easter weekend. Something unique will be provided for all ages and will include a silent auction\, Easter egg hunt\, face painting and more. Your strong support for this great cause is needed. Because of your support\, this charitable event will help make a difference One Stride At A Time! Check us out on facebook.
X-ALT-DESC;FMTTYPE=text/html:<p>Code Blue was created to help the citizens of Saratoga Springs who are in need.</p><p>Code Blue was created to help the citizens of Saratoga Springs who are in need. After a very successful opening winter\, a committee was formed to create an 8k road race to support this essential cause. Proceeds from this event will go toward the future growth of this extremely necessary shelter. Saratoga&rsquo\;s first 8k road race starts on High Rock Avenue and rolls its way through the charming neighborhood streets of the East Side with an out and back on the beautifully designed City&rsquo\;s &ldquo\;Spring Trail&rdquo\;. The course layout is front loaded with a few challenging hills\, then it levels off with more than 5k remaining\, making it flat and fast. This annual 8k road race will be held on Saturday of Easter weekend. Something unique will be provided for all ages and will include a silent auction\, Easter egg hunt\, face painting and more. Your strong support for this great cause is needed. Because of your support\, this charitable event will help make a difference<strong><em> One Stride At A Time!</em></strong> Check us out on <a href="https://www.facebook.com/saratogacodebluerun" target="_blank">facebook</a>.</p>
LOCATION:High Rock Avenue
UID:e.2254.2206
SEQUENCE:3
DTSTAMP:20260423T180800Z
URL:https://chamber.saratoga.org/events/details/code-blue-8k-race-04-03-2015-04-03-2015-2206
END:VEVENT

END:VCALENDAR
