BEGIN:VCALENDAR
VERSION:2.0
PRODID:-//ChamberMaster//Event Calendar 2.0//EN
METHOD:PUBLISH
X-PUBLISHED-TTL:P3D
REFRESH-INTERVAL:P3D
CALSCALE:GREGORIAN
BEGIN:VEVENT
DTSTART:20150315T170000Z
DTEND:20150315T200000Z
X-MICROSOFT-CDO-ALLDAYEVENT:FALSE
SUMMARY:Clifton Park & Halfmoon Saves Lives!
DESCRIPTION:Join us for "Clifton Park & Halfmoon Saves Lives"\, a bone marrow screening and registry for Reese Johnson. This family event will include: ---Bone Marrow Screening & Registry w/ Be The Match--- The donor registration process consists of simply filling out a few medical forms and an effortless and painless mouth swab. Donors should be between the ages of 18-44\, and the whole process takes only fifteen minutes! ---SafeChild ID Cards & Child Fingerprinting--- w/ Saratoga County Sheriff's Office ---Emergency Medicine Services 101--- w/ Clifton Park & Halfmoon EMS.  Learn critical\, life saving CPR skills ambulance and equipment tours  Heart Health education ---Fundraising---  50/50 Raffle Hoffman Car Wash Promotions Spin Revolution Spin-a-thon ///////// ABOUT REESE ///////// Reese Johnson is a brave and strong spirited 14-year old battling Leukemia who resides in Ballston Spa. Last year\, Reese underwent oral surgery to remove a growth in her mouth. The pathology results confirmed that Reese had Ewing's Sarcoma\, a rare but aggressive childhood cancer. After an intensive treatment course\, Reese went into remission\, only to become ill in Dec. of 2014 and was eventually diagnosed with Leukemia. She is currently undergoing chemotherapy and is preparing for a bone marrow transplant. Clifton Park Saves a Life hopes to help Reese\, or other children and adults in need of a life-saving transplant. To learn more about Reese\, visit her community support Facebook Page: Courage\, Hope & Love for Reese Photo credit: Christine Neely w/ Flashes of Hope Albany Chapter
X-ALT-DESC;FMTTYPE=text/html:Join us for &quot\;Clifton Park &amp\; Halfmoon Saves Lives&quot\;\, a bone marrow screening and registry for Reese Johnson. This family event will include: ---Bone Marrow Screening &amp\; Registry w/ Be The Match--- The donor registration process consists of simply filling out a few medical forms and an effortless and painless mouth swab. Donors should be between the ages of 18-44\, and the whole process takes only fifteen minutes! ---SafeChild ID Cards &amp\; Child Fingerprinting--- w/ Saratoga County Sheriff&#39\;s Office ---Emergency Medicine Services 101--- w/ Clifton Park &amp\; Halfmoon EMS.&nbsp\;&nbsp\;Learn critical\, life saving CPR skills ambulance and equipment tours &nbsp\;Heart Health education ---Fundraising--- &nbsp\;50/50 Raffle Hoffman Car Wash Promotions Spin Revolution Spin-a-thon ///////// ABOUT REESE ///////// Reese Johnson is a brave and strong spirited 14-year old battling Leukemia who resides in Ballston Spa. Last year\, Reese underwent oral surgery to remove a growth in her mouth. The pathology results confirmed that Reese had Ewing&#39\;s Sarcoma\, a rare but aggressive childhood cancer. After an intensive treatment course\, Reese went into remission\, only to become ill in Dec. of 2014 and was eventually diagnosed with Leukemia. She is currently undergoing chemotherapy and is preparing for a bone marrow transplant. Clifton Park Saves a Life hopes to help Reese\, or other children and adults in need of a life-saving transplant. To learn more about Reese\, visit her community support Facebook Page: Courage\, Hope &amp\; Love for Reese Photo credit: Christine Neely w/ Flashes of Hope Albany Chapter
LOCATION:Clifton Park & Halfmoon Emergency Corps. 15 Crossing Blvd. Clifton Park NY 12065
UID:e.2254.6393
SEQUENCE:3
DTSTAMP:20260423T214426Z
URL:https://chamber.saratoga.org/events/details/clifton-park-halfmoon-saves-lives-03-15-2015-6393
END:VEVENT

END:VCALENDAR
