BEGIN:VCALENDAR
VERSION:2.0
PRODID:-//ChamberMaster//Event Calendar 2.0//EN
METHOD:PUBLISH
X-PUBLISHED-TTL:P3D
REFRESH-INTERVAL:P3D
CALSCALE:GREGORIAN
BEGIN:VEVENT
DTSTART;VALUE=DATE:20160229
DTEND;VALUE=DATE:20160331
TRANSP:TRANSPARENT
X-MICROSOFT-CDO-ALLDAYEVENT:TRUE
SUMMARY:Client and/or Employee Appreciation Day - Cabin Fever Classic Golf Fore a Cause
DESCRIPTION:Proceeds benefit United Way of the Greater Capital Region and Ronald McDonald House Charities of the Capital Region.\n\n\n\nPlan a day of fun for clients and/or your employees by sponsoring a day of indoor golf while vying to win the Cabin Fever Classic Golf Fore a Cause Corporate Challenge. Play together on the day and tee time of your choice between February 29-March 30 and see if your company can take home the Corporate Challenge title. Multiple prizes awarded as part of the Corporate Challenge.\n\n\n\nScores for longest drive and closest to the pin during the Corporate Challenge will also count towards the 5th Annual Cabin Fever Classic scores/prizes. Plus mark your calendar to join us for the Awards Banquet and Silent Auction on March 31 at Saratoga National.\n\n\n\nFor more information\, contact Tark's Indoor Golf Club. Limited time offer!\n\n\n\n$395/foursome\n\nSign up two to six foursomes to compete!
X-ALT-DESC;FMTTYPE=text/html:<p>Proceeds benefit United Way of the Greater Capital Region and Ronald McDonald House Charities of the Capital Region.<br />\n<br />\nPlan a day of fun for clients and/or your employees by sponsoring a day of indoor golf while vying to win the Cabin Fever Classic Golf Fore a Cause Corporate Challenge. Play together on the day and tee time of your choice between February 29-March 30 and see if your company can take home the Corporate Challenge title. Multiple prizes awarded as part of the Corporate Challenge.<br />\n<br />\nScores for longest drive and closest to the pin during the Corporate Challenge will also count towards the 5th Annual Cabin Fever Classic scores/prizes. Plus mark your calendar to join us for the Awards Banquet and Silent Auction on March 31 at Saratoga National.<br />\n<br />\nFor more information\, contact Tark&#39\;s Indoor Golf Club. Limited time offer!<br />\n<br />\n$395/foursome<br />\n<span style="line-height: 1.6\;">Sign up two to six foursomes to compete!</span></p>\n
LOCATION:Tark's Indoor Golf Club
UID:e.2254.13298
SEQUENCE:3
DTSTAMP:20260422T003623Z
URL:https://chamber.saratoga.org/events/details/client-and-or-employee-appreciation-day-cabin-fever-classic-golf-fore-a-cause-02-29-2016-13298
END:VEVENT

END:VCALENDAR
