BEGIN:VCALENDAR
VERSION:2.0
PRODID:-//ChamberMaster//Event Calendar 2.0//EN
METHOD:PUBLISH
X-PUBLISHED-TTL:P3D
REFRESH-INTERVAL:P3D
CALSCALE:GREGORIAN
BEGIN:VEVENT
DTSTART:20150418T220000Z
DTEND:20150419T010000Z
X-MICROSOFT-CDO-ALLDAYEVENT:FALSE
SUMMARY:Classic Night Out
DESCRIPTION:An evening of 60's\,70's\,80's music DJ'd by Walt Adams from 'The Jockey' to be held at Gaffney's to raise money for pediatric cancer research at Dana Farber Cancer Care and Research Institute\, Boston\, Ma.
X-ALT-DESC;FMTTYPE=text/html:An evening of 60&#39\;s\,70&#39\;s\,80&#39\;s music DJ&#39\;d by Walt Adams from &#39\;The Jockey&#39\; to be held at Gaffney&#39\;s to raise money for pediatric cancer research at Dana Farber Cancer Care and Research Institute\, Boston\, Ma.&nbsp\;
LOCATION:Gaffney's Restaurant
UID:e.2254.6918
SEQUENCE:3
DTSTAMP:20260423T195128Z
URL:https://chamber.saratoga.org/events/details/classic-night-out-04-18-2015-6918
END:VEVENT

END:VCALENDAR
