BEGIN:VCALENDAR
VERSION:2.0
PRODID:-//ChamberMaster//Event Calendar 2.0//EN
METHOD:PUBLISH
X-PUBLISHED-TTL:P3D
REFRESH-INTERVAL:P3D
CALSCALE:GREGORIAN
BEGIN:VEVENT
DTSTART:20160616T180000Z
DTEND:20160617T210000Z
X-MICROSOFT-CDO-ALLDAYEVENT:FALSE
SUMMARY:City Share with Burlington\, VT
DESCRIPTION:Working with the city of Burlington VT\, your Saratoga County Chamber is organizing a City Share. Members of the Saratoga County community are invited to join us on June 16   17 as we travel together via bus to the city of Burlington. This area of Vermont and our area of New York have many similarities. The share will provide an opportunity to members of each community to learn from each other\, create dialogue about economic development\, and share best practices. Topics to be discussed include\; technology sector\, parking\, health care\, waterfront development\, tourism\, reuse and repurposing of existing buildings\, balance of vehicles and alternate transportation modes and more. The cost will include transportation to/from and within Burlington\, breakfast and lunch on the 17th and single room downtown hotel occupancy\, $475. Space is limited. The Burlington community will be welcomed to Saratoga August 16   17. For more information\, please contact Kathleen Fyfe\, 584-3255.
X-ALT-DESC;FMTTYPE=text/html:<span style="font-family:calibri\,sans-serif\;"><span style="font-size:11.0pt\;">Working with the city of Burlington VT\, your Saratoga County Chamber is organizing a City Share. Members of the Saratoga County community are invited to join us on June 16 &ndash\; 17 as we travel together via bus to the city of Burlington. This area of Vermont and our area of New York have many similarities. The share will provide an opportunity to members of each community to learn from each other\, create dialogue about economic development\, and share best practices. Topics to be discussed include\; technology sector\, parking\, health care\, waterfront development\, tourism\, reuse and repurposing of existing buildings\, balance of vehicles and alternate transportation modes and more. The cost will include transportation to/from and within Burlington\, breakfast and lunch on the 17<sup>th</sup> and single room downtown hotel occupancy\, $475. Space is limited. The Burlington community will be welcomed to Saratoga August 16&nbsp\;&ndash\; 17. For more information\, please contact <a href="mailto:kfyfe@saratoga.org">Kathleen Fyfe</a>\, 584-3255.</span></span><br />\n&nbsp\;
LOCATION:
UID:e.2254.15565
SEQUENCE:3
DTSTAMP:20260421T080507Z
URL:https://chamber.saratoga.org/events/details/city-share-with-burlington-vt-06-16-2016-15565
END:VEVENT

END:VCALENDAR
