BEGIN:VCALENDAR
VERSION:2.0
PRODID:-//ChamberMaster//Event Calendar 2.0//EN
METHOD:PUBLISH
X-PUBLISHED-TTL:P3D
REFRESH-INTERVAL:P3D
CALSCALE:GREGORIAN
BEGIN:VEVENT
DTSTART:20150324T220000Z
DTEND:20150325T000000Z
X-MICROSOFT-CDO-ALLDAYEVENT:FALSE
SUMMARY:City Council Workshop
DESCRIPTION:The Saratoga Springs City Council will host a "workshop\," on Tuesday\, March 24\, at 6:00 p.m.\, in the City Council Chambers\, in City Hall\, on Broadway\, in Saratoga Springs. This workshop is part of an effort by the City Council to review of a proposed set of revisions to the City's Comprehensive Plan. This workshop will include presentations regarding proposed changes and amendments to the draft plan now being offered by several organizations\, including the Saratoga National Golf Club and the D'Andrea family. Like other meetings of the City Council\, there will be time on the workshop agenda for members of the public to comment either on the presentations or the comprehensive plan itself. The Saratoga National Golf Club will be presenting information specifically about their proposed Open Space Resort Overlay. If approved\, this designation would provide the City with the historic opportunity to permanently protect nearly 400 acres of open space in the City's greenbelt forever. The public is invited to attend.
X-ALT-DESC;FMTTYPE=text/html:<span style="font-family: &quot\;Calibri&quot\;\,&quot\;sans-serif&quot\;\; font-size: 11pt\; mso-fareast-font-family: Calibri\; mso-fareast-theme-font: minor-latin\; mso-bidi-font-family: &quot\;Times New Roman&quot\;\; mso-ansi-language: EN-US\; mso-fareast-language: EN-US\; mso-bidi-language: AR-SA\;"><font color="#000000">The Saratoga Springs City Council will host a &ldquo\;workshop\,&rdquo\; on Tuesday\, March 24\, at 6:00 p.m.\, in the City Council Chambers\, in City Hall\, on Broadway\, in Saratoga Springs. This workshop is part of an effort by the City Council to review of a proposed set of revisions to the City&rsquo\;s Comprehensive Plan. This workshop will include presentations regarding proposed changes and amendments to the draft plan now being offered by several organizations\, including the Saratoga National Golf Club and the D&rsquo\;Andrea family. Like other meetings of the City Council\, there will be time on the workshop agenda for members of the public to comment either on the presentations or the comprehensive plan itself. The Saratoga National Golf Club will be presenting information specifically about their proposed Open Space Resort Overlay. If approved\, this designation would provide the City with the historic opportunity to permanently protect nearly 400 acres of open space in the City&rsquo\;s greenbelt forever. The public is invited to attend.</font></span>
LOCATION:Saratoga Springs City Hall 474 Broadway Saratoga Springs
UID:e.2254.6926
SEQUENCE:3
DTSTAMP:20260423T214014Z
URL:https://chamber.saratoga.org/events/details/city-council-workshop-03-24-2015-6926
END:VEVENT

END:VCALENDAR
