BEGIN:VCALENDAR
VERSION:2.0
PRODID:-//ChamberMaster//Event Calendar 2.0//EN
METHOD:PUBLISH
X-PUBLISHED-TTL:P3D
REFRESH-INTERVAL:P3D
CALSCALE:GREGORIAN
BEGIN:VEVENT
DTSTART:20160708T170000Z
DTEND:20160708T200000Z
X-MICROSOFT-CDO-ALLDAYEVENT:FALSE
SUMMARY:Circus Smirkus 2016 Big Top Tour: "Up HUP and Away: The Invention of Flight!"
DESCRIPTION:Circus Smirkus\, the acclaimed international youth circus\, returns to the outdoor polo field at Saratoga Casino and Raceway for four performances this summer. On July 8th and 9th families can gather under the "Big Top Tent" as the Waldorf School of Saratoga Springs proudly presents the Circus Smirkus 2016 "Big Top Tour."\n\n \n\nCircus Smirkus will perform July 8th and 9th with a 1PM and 6PM show scheduled for each day. Tickets are $25 for adults 13 and older and $23 for children 2-12.  Children younger than two are free on an adult's lap.  All proceeds raised will go directly to the Waldorf School of Saratoga Springs.  Tickets will be available starting May 1st by calling 1-877-SMIRKUS toll-free or visiting www.smirkus.org.  Tickets will be available locally in Saratoga Springs beginning mid-May at the Children's Museum at Saratoga on 69 Caroline Street and at Crafters Gallery\, 427 Broadway.
X-ALT-DESC;FMTTYPE=text/html:<p class="x_MsoNormal" style="margin: 0in 0in 0pt\; color: rgb(33\, 33\, 33)\; line-height: normal\; font-family: &quot\;Times New Roman&quot\;\, serif\; font-size: 12pt\;"><span style="font-family: Arial\, sans-serif\; font-size: 11pt\;"><span style="color: black\;">Circus Smirkus\, the acclaimed international youth circus\, returns to the outdoor polo field at Saratoga Casino and Raceway for four performances this summer. On July 8<sup>th</sup>&nbsp\;and 9<sup>th</sup>&nbsp\;</span>families can gather under the &ldquo\;Big Top Tent&rdquo\; as the Waldorf School of Saratoga Springs proudly presents the Circus Smirkus 2016 &ldquo\;Big Top Tour.&rdquo\;</span><br />\n&nbsp\;</p>\n\n<p class="x_MsoNormal" style="margin: 0in 0in 0pt\; color: rgb(33\, 33\, 33)\; line-height: normal\; font-family: &quot\;Times New Roman&quot\;\, serif\; font-size: 12pt\;"><span style="color: black\; font-family: Arial\, sans-serif\; font-size: 11pt\;">Circus Smirkus will perform July 8<sup>th</sup>&nbsp\;and 9<sup>th</sup>&nbsp\;with a 1PM and 6PM show scheduled for each day.&nbsp\;</span><span style="color: rgb(29\, 29\, 29)\; font-family: Arial\, sans-serif\; font-size: 11pt\;">Tickets are $25 for adults 13 and older and $23 for children 2-12.&nbsp\; Children younger than two are free on an adult&rsquo\;s lap.&nbsp\; All proceeds raised will go directly to the Waldorf School of Saratoga Springs.&nbsp\;&nbsp\;</span><span style="color: black\; font-family: Arial\, sans-serif\; font-size: 11pt\;">Tickets</span><span style="font-family: Arial\, sans-serif\; font-size: 11pt\;">&nbsp\;will be available starting May 1<sup>st</sup>&nbsp\;by calling 1-877-SMIRKUS toll-free or visiting&nbsp\;<a href="http://www.smirkus.org/" target="_blank"><span style="color: windowtext\;">www.smirkus.org</span></a>.&nbsp\; Tickets will be available locally in Saratoga Springs beginning mid-May at the Children&rsquo\;s Museum at Saratoga on 69 Caroline Street and at Crafters Gallery\, 427 Broadway.</span></p>\n
LOCATION:Outdoor polo fields at Saratoga Casino & Raceway 342 Jefferson St\, Saratoga Springs\, NY 12866
UID:e.2254.16490
SEQUENCE:3
DTSTAMP:20260421T051415Z
URL:https://chamber.saratoga.org/events/details/circus-smirkus-2016-big-top-tour-up-hup-and-away-the-invention-of-flight-07-08-2016-16490
END:VEVENT

END:VCALENDAR
