BEGIN:VCALENDAR
VERSION:2.0
PRODID:-//ChamberMaster//Event Calendar 2.0//EN
METHOD:PUBLISH
X-PUBLISHED-TTL:P3D
REFRESH-INTERVAL:P3D
CALSCALE:GREGORIAN
BEGIN:VEVENT
DTSTART:20150328T233000Z
DTEND:20150329T013000Z
X-MICROSOFT-CDO-ALLDAYEVENT:FALSE
SUMMARY:Cinderella\, SSHS Musical
DESCRIPTION:Saratoga Springs High School Drama Club will present the Rogers & Hammerstein musical Cinderella on Thursday March 26 at 7:30 p.m.\, Friday March 27 at 7:30 p.m.\, and Saturday March 28 at 2:00 p.m. and 7:30 p.m. Patrons attending the Thursday evening performance of Cinderella are invited to an Opening Night Reception from 6:00 ? 7:00 p.m. At the Saturday matinee\, children ages 8 and under will receive a princess tiara or prince crown at the door (while supplies last) and are invited to dress up as a prince or princess. Donations collected by the drama club during the opening night reception and raffle proceeds from the shows will benefit the Wounded Warrior Project.
X-ALT-DESC;FMTTYPE=text/html:Saratoga Springs High School Drama Club will present the Rogers &amp\; Hammerstein musical Cinderella on Thursday March 26 at 7:30 p.m.\, Friday March 27 at 7:30 p.m.\, and Saturday March 28 at 2:00 p.m. and 7:30 p.m. Patrons attending the Thursday evening performance of Cinderella are invited to an Opening Night Reception from 6:00 ? 7:00 p.m. At the Saturday matinee\, children ages 8 and under will receive a princess tiara or prince crown at the door (while supplies last) and are invited to dress up as a prince or princess. Donations collected by the drama club during the opening night reception and raffle proceeds from the shows will benefit the Wounded Warrior Project.
LOCATION:Saratoga Springs High School\, Loewenberg Auditorium
UID:e.2254.6057
SEQUENCE:3
DTSTAMP:20260423T214014Z
URL:https://chamber.saratoga.org/events/details/cinderella-sshs-musical-03-28-2015-6057
END:VEVENT

END:VCALENDAR
