BEGIN:VCALENDAR
VERSION:2.0
PRODID:-//ChamberMaster//Event Calendar 2.0//EN
METHOD:PUBLISH
X-PUBLISHED-TTL:P3D
REFRESH-INTERVAL:P3D
CALSCALE:GREGORIAN
BEGIN:VEVENT
DTSTART:20150701T170000Z
DTEND:20150701T190000Z
X-MICROSOFT-CDO-ALLDAYEVENT:FALSE
SUMMARY:Childrens Program
DESCRIPTION:Educator Shari Crawford delights children while teaching them about the lives of youngsters in 18th-century America.\n\n \n\nJuly 1?Open-fire Cooking\n\nJuly 8?Toys and Games\n\nJuly 15?English Country Dancing for Children\n\nJuly 22?Laundry and Dress-up
X-ALT-DESC;FMTTYPE=text/html:<span style="line-height: 115%\; font-family: Georgia\, serif\; font-size: 10pt\;">Educator Shari Crawford delights children while teaching them about the lives of youngsters in 18th-century America.</span>\n\n<p>&nbsp\;</p>\n\n<p style="line-height: 120%\; vertical-align: middle\;"><span style="line-height: 120%\; font-size: 10pt\;">July 1?Open-fire Cooking</span></p>\n\n<p style="line-height: 120%\; vertical-align: middle\;"><span style="line-height: 120%\; font-size: 10pt\;">July 8?Toys and Games</span></p>\n\n<p style="line-height: 120%\; vertical-align: middle\;"><span style="line-height: 120%\; font-size: 10pt\;">July 15?English Country Dancing for Children</span></p>\n\n<p><span style="font-size: 10pt\;">July 22?Laundry and Dress-up</span></p>\n\n<p>&nbsp\;</p>\n
LOCATION:Saratoga National Historical Park
UID:e.2254.4900
SEQUENCE:3
DTSTAMP:20260423T040922Z
URL:https://chamber.saratoga.org/events/details/childrens-program-07-01-2015-4900
END:VEVENT

END:VCALENDAR
