BEGIN:VCALENDAR
VERSION:2.0
PRODID:-//ChamberMaster//Event Calendar 2.0//EN
METHOD:PUBLISH
X-PUBLISHED-TTL:P3D
REFRESH-INTERVAL:P3D
CALSCALE:GREGORIAN
BEGIN:VEVENT
DTSTART:20150425T140000Z
DTEND:20150426T030000Z
X-MICROSOFT-CDO-ALLDAYEVENT:FALSE
SUMMARY:ChaseCon Expo - 04/24/2015
DESCRIPTION:Comic Con and more\n\nWhether you're 3 or 102\, a day at ChaseCon will make you feel like a kid. Spend a day with us\, and enjoy memories for years to come. Bring friends\, family\, cash\, and have fun!\n\n \n\n\nThings to do. You'll have Artists tables\, various Vendor tables of all kinds to shop at. A free movie theater that will play from 10am-11pm! Cosplay contests\, panels all day\, live podcasts\, a ton of great things! There will also be an open eatery in the Saratoga City Center. Lots of activity all day\, nothing to be bored with!\n\n\n \n\n\n\nGaming. We will have gaming all day long from 10am-11pm. Magic\, Warhammer\, Yo-Gi-Oh\, Super Smash Bros. 1\,2\, & 3 Tournaments and many more! All in one huge gaming room!\n\n\n\n \n\n It'll be known as an Upstate NY Comic Con\, featuring not just comic book dealers\, but artists\, vendors of all kinds and guest stars! Instead of having to go all over the United States to find a good convention\, just come to ChaseCon Expo\, it's all you need! Also we keep the admission low so people can enjoy and spend their money more on what they want\, instead of letting the Con decide where it goes. The goal is to have fun and enjoy life.
X-ALT-DESC;FMTTYPE=text/html:<p>Comic Con and more</p>\n\n<p><span class="editor_single_space" style="color: rgb(0\, 0\, 0)\;"><span style="line-height: 1\; font-size: 12px\; background-color: transparent\;">Whether you&#39\;re 3&nbsp\;or 102\, a day at ChaseCon&nbsp\;will make you feel like a kid. Spend a day with us\, and enjoy memories for years to come. Bring friends\, family\, cash\, and have fun!</span></span></p>\n\n<p>&nbsp\;</p>\n\n<div class="txt ">\n<p><strong>Things to do.</strong> You&#39\;ll have Artists tables\, various Vendor tables of all kinds to shop at. A free movie theater that will play from 10am-11pm!&nbsp\;Cosplay contests\, panels all day\, live podcasts\, a ton of great things! There will also be an open eatery in the Saratoga City Center. Lots of activity all day\, nothing to be bored with!</p>\n</div>\n\n<p>&nbsp\;</p>\n\n<div class="wsb-element-text" data-type="element" id="wsb-element-224254601">\n<div class="txt ">\n<p><strong>Gaming. </strong><span style="font-size: 14px\;">We will have gaming all day long from 10am-11pm. Magic\, Warhammer\, Yo-Gi-Oh\, Super Smash Bros. 1\,2\, &amp\; 3 Tournaments and many more!&nbsp\;All in one huge gaming room!</span></p>\n</div>\n</div>\n\n<p>&nbsp\;</p>\n\n<div class="wsb-element-text" data-type="element" id="wsb-element-224254602">&nbsp\;It&#39\;ll be known as an Upstate NY Comic Con\, featuring not just comic book dealers\, but artists\, vendors of all kinds&nbsp\;and guest stars!&nbsp\;Instead of having to go all over the United States to find a good convention\, just come to ChaseCon Expo\, it&#39\;s all you need! Also we&nbsp\;keep the admission low so people can enjoy and spend their money more on what they want\, instead of letting the&nbsp\;Con decide where it goes. The goal is to have fun and enjoy life.</div>\n
LOCATION:Saratoga Springs City Center
UID:e.2254.2112
SEQUENCE:3
DTSTAMP:20260423T195347Z
URL:https://chamber.saratoga.org/events/details/chasecon-expo-04-24-2015-04-25-2015-2112
END:VEVENT

END:VCALENDAR
