BEGIN:VCALENDAR
VERSION:2.0
PRODID:-//ChamberMaster//Event Calendar 2.0//EN
METHOD:PUBLISH
X-PUBLISHED-TTL:P3D
REFRESH-INTERVAL:P3D
CALSCALE:GREGORIAN
BEGIN:VEVENT
DTSTART:20260617T130000Z
DTEND:20260617T170000Z
X-MICROSOFT-CDO-ALLDAYEVENT:FALSE
SUMMARY:Chamber Golf Tournament
DESCRIPTION:Join us for a fun and competitive day on the greens at Brookhaven Golf Course on June 17th for our annual Golf Tournament!  Presented by BPI Mechanical Service\, this tournament is a half day\, 9 hole tournament with plenty of networking possibilities!\n\nThe day kicks off with registration at 9AM\, giving players time to check in\, warm up\, and connect before the action begins with breakfast sandwiches and coffee. A 10AM shotgun will send teams out across the course for a morning of golf\, camaraderie\, and friendly competition!\n\nAfter play concludes\, participants will gather at The View at Brookhaven for a delicious lunch buffet and awards ceremony\, where we'll celebrate top teams\, contest winners\, and highlight moments from the day!
X-ALT-DESC;FMTTYPE=text/html:<p data-end="221" data-start="80"><span style="font-size:14px\;"><strong>Join us for a fun and competitive day on the greens at <span class="hover:entity-accent entity-underline inline cursor-pointer align-baseline">Brookhaven Golf Course</span> on June 17th for our annual Golf Tournament!&nbsp\; Presented by <em>BPI Mechanical Service</em>\, this tournament is a half day\, 9 hole tournament with plenty of networking possibilities!</strong></span></p>\n\n<p data-end="483" data-start="223"><span style="font-size:14px\;"><strong>The day kicks off with registration at 9AM\, giving players time to check in\, warm up\, and connect before the action begins with breakfast sandwiches and coffee. A 10AM shotgun&nbsp\;will send teams out across the course for a morning of golf\, camaraderie\, and friendly competition!</strong></span></p>\n\n<p data-end="690" data-start="485"><span style="font-size:14px\;"><strong>After play concludes\, participants will gather at The View at Brookhaven for a delicious lunch buffet and awards ceremony\, where we&rsquo\;ll celebrate top teams\, contest winners\, and highlight moments from the day!</strong></span></p>\n
LOCATION:Brookhaven Golf Course 333 Alpine Meadows Road Porter Corners\, NY 12859
UID:e.2254.42292
SEQUENCE:3
DTSTAMP:20260425T032104Z
URL:https://chamber.saratoga.org/events/details/chamber-golf-tournament-42292
END:VEVENT

END:VCALENDAR
