BEGIN:VCALENDAR
VERSION:2.0
PRODID:-//ChamberMaster//Event Calendar 2.0//EN
METHOD:PUBLISH
X-PUBLISHED-TTL:P3D
REFRESH-INTERVAL:P3D
CALSCALE:GREGORIAN
BEGIN:VEVENT
DTSTART:20140920T113000Z
DTEND:20140920T183000Z
X-MICROSOFT-CDO-ALLDAYEVENT:FALSE
SUMMARY:Celebrate Nickelodeon’s Worldwide Day of Play at The Children’s Museum! - 09/20/2014
DESCRIPTION:Celebrate nickelodeon’s worldwide Day of Play with us at The Children’s Museum at Saratoga\, where learning and play go hand in hand! Enjoy ½ price admission and a day full of special activities! Activities to include: -          Exercise Activities with Go Kids from 12:30am to 3pm -          Self-guided scavenger hunts throughout the museum -          Special Autumn Story Art Program at 1pm in our art room -          What’s Inside Me with Stuffee Program at 2:30pm in our art room (enjoy a healthy snack while learning about health & nutrition). -          Roller Coaster Building from 10am-12pm in our art room
X-ALT-DESC;FMTTYPE=text/html:<p>Celebrate nickelodeon’s worldwide Day of Play with us at The Children’s Museum at Saratoga\, where learning and play go hand in hand! </p><p>Enjoy ½ price admission and a day full of special activities!</p> <p>Activities to include:</p> <p style="margin-left: 0.75in\; text-indent: -0.25in\;"><span><span>-<span style="font: 7pt Times New Roman\;">&nbsp\;&nbsp\;&nbsp\;&nbsp\;&nbsp\;&nbsp\;&nbsp\;&nbsp\;&nbsp\; </span></span></span>Exercise Activities with Go Kids from 12:30am to 3pm</p> <p style="margin-left: 0.75in\; text-indent: -0.25in\;"><span><span>-<span style="font: 7pt Times New Roman\;">&nbsp\;&nbsp\;&nbsp\;&nbsp\;&nbsp\;&nbsp\;&nbsp\;&nbsp\;&nbsp\; </span></span></span>Self-guided scavenger hunts throughout the museum</p> <p style="margin-left: 0.75in\; text-indent: -0.25in\;"><span><span>-<span style="font: 7pt Times New Roman\;">&nbsp\;&nbsp\;&nbsp\;&nbsp\;&nbsp\;&nbsp\;&nbsp\;&nbsp\;&nbsp\; </span></span></span>Special Autumn Story Art Program at 1pm in our art room</p> <p style="margin-left: 0.75in\; text-indent: -0.25in\;"><span><span>-<span style="font: 7pt Times New Roman\;">&nbsp\;&nbsp\;&nbsp\;&nbsp\;&nbsp\;&nbsp\;&nbsp\;&nbsp\;&nbsp\; </span></span></span>What’s Inside Me with Stuffee Program at 2:30pm in our art room (enjoy a healthy snack while learning about health &amp\; nutrition).</p> <p style="margin-left: 0.75in\; text-indent: -0.25in\;"><span><span>-<span style="font: 7pt Times New Roman\;">&nbsp\;&nbsp\;&nbsp\;&nbsp\;&nbsp\;&nbsp\;&nbsp\;&nbsp\;&nbsp\; </span></span></span>Roller Coaster Building from 10am-12pm in our art room</p>
LOCATION:The Children's Museum at Saratoga
UID:e.2254.3981
SEQUENCE:3
DTSTAMP:20260424T111227Z
URL:https://chamber.saratoga.org/events/details/celebrate-nickelodeon-s-worldwide-day-of-play-at-the-children-s-museum-09-20-2014-09-20-2014-3981
END:VEVENT

END:VCALENDAR
