BEGIN:VCALENDAR
VERSION:2.0
PRODID:-//ChamberMaster//Event Calendar 2.0//EN
METHOD:PUBLISH
X-PUBLISHED-TTL:P3D
REFRESH-INTERVAL:P3D
CALSCALE:GREGORIAN
BEGIN:VEVENT
DTSTART:20160623T153000Z
DTEND:20160623T173000Z
X-MICROSOFT-CDO-ALLDAYEVENT:FALSE
SUMMARY:CEG 20th Annual Technology Awards Luncheon
DESCRIPTION:This annual event attracts hundreds of high-level area professionals in the business and tech sectors to recognize and honor or region's most innovative and growth-oriented companies and individuals. Seeking nominations for award winners! Deadline: Friday\, May 6 at noon. Are you in a high-tech industry such as advanced materials\, bio/medical\, IT/Software\, energy\, manufacturing or nanotech Are you an entrepreneur? Innovator Start-up Established tech-business Researcher Company with a unique story We want to hear from you - Apply today at ceg.org! Sponsorships are also available for this event -- contact Andrea Swank at 518.465.8975.
X-ALT-DESC;FMTTYPE=text/html:This annual event attracts hundreds of high-level area professionals in the business and tech sectors to recognize and honor or region&#39\;s most innovative and growth-oriented companies and individuals. Seeking nominations for award winners! Deadline: Friday\, May 6 at noon. Are you in a high-tech industry such as advanced materials\, bio/medical\, IT/Software\, energy\, manufacturing or nanotech&nbsp\;Are you an entrepreneur? Innovator&nbsp\;Start-up Established tech-business Researcher Company with a unique story We want to hear from you - Apply today at ceg.org! Sponsorships are also available for this event -- contact Andrea Swank at 518.465.8975.
LOCATION:Desmond Hotel\, 660 Albany Shaker Rd.
UID:e.2254.16412
SEQUENCE:3
DTSTAMP:20260421T092829Z
URL:https://chamber.saratoga.org/events/details/ceg-20th-annual-technology-awards-luncheon-06-23-2016-16412
END:VEVENT

END:VCALENDAR
