BEGIN:VCALENDAR
VERSION:2.0
PRODID:-//ChamberMaster//Event Calendar 2.0//EN
METHOD:PUBLISH
X-PUBLISHED-TTL:P3D
REFRESH-INTERVAL:P3D
CALSCALE:GREGORIAN
BEGIN:VEVENT
DTSTART:20161020T210000Z
DTEND:20161021T003000Z
X-MICROSOFT-CDO-ALLDAYEVENT:FALSE
SUMMARY:CEG 2016 Annual Meeting
DESCRIPTION:This exclusive\, members-only event attracts more than 300 business\, government\, academic and community leaders each year\, and is one of the region's top executive networking events and an opportunity to celebrate regional successes with fellow CEG investors. The meeting will include official CEG business   a message from the board chair and committees\, as well as an update on the direction the organization is headed in 2017 from CEG President & CEO Andrew Kennedy. CEG will also conduct elections for the 2017 board of directors. This event is not to be missed! Keynote Speaker: Greg Carlin\, Chief Executive Officer\, Rush Street Gaming\, LLC After a successful finance career\, Greg Carlin cofounded Rush Street Gaming\, LLC\, where he currently serves as CEO. Rush Street Gaming owns and operates two Rivers Casino properties in Des Plaines\, Ill.\, and in Pittsburgh\; plus SugarHouse Casino in Philadelphia. A fourth property\, Rivers Casino & Resort in Mohawk Harbor in Schenectady is slated to open in 2017.
X-ALT-DESC;FMTTYPE=text/html:This exclusive\, members-only event attracts more than 300 business\, government\, academic and community leaders each year\, and is one of the region&rsquo\;s top executive networking events and an opportunity to celebrate regional successes with fellow CEG investors. The meeting will include official CEG business &ndash\; a message from the board chair and committees\, as well as an update on the direction the organization is headed in 2017 from CEG President &amp\; CEO Andrew Kennedy. CEG will also conduct elections for the 2017 board of directors. This event is not to be missed! Keynote Speaker: Greg Carlin\, Chief Executive Officer\, Rush Street Gaming\, LLC After a successful finance career\, Greg Carlin cofounded Rush Street Gaming\, LLC\, where he currently serves as CEO. Rush Street Gaming owns and operates two Rivers Casino properties in Des Plaines\, Ill.\, and in Pittsburgh\; plus SugarHouse Casino in Philadelphia. A fourth property\, Rivers Casino &amp\; Resort in Mohawk Harbor in Schenectady is slated to open in 2017.
LOCATION:Proctors GE Theatre & Key Hall
UID:e.2254.19693
SEQUENCE:3
DTSTAMP:20260420T230508Z
URL:https://chamber.saratoga.org/events/details/ceg-2016-annual-meeting-19693
END:VEVENT

END:VCALENDAR
