BEGIN:VCALENDAR
VERSION:2.0
PRODID:-//ChamberMaster//Event Calendar 2.0//EN
METHOD:PUBLISH
X-PUBLISHED-TTL:P3D
REFRESH-INTERVAL:P3D
CALSCALE:GREGORIAN
BEGIN:VEVENT
DTSTART;VALUE=DATE:20161016
DTEND;VALUE=DATE:20161017
TRANSP:TRANSPARENT
X-MICROSOFT-CDO-ALLDAYEVENT:TRUE
SUMMARY:Catwalk for Kidneys
DESCRIPTION:The Northeast Kidney Foundation has collaborated once again with local boutiques to put on a fashion show to help raise money and awareness for those who have been affected by kidney disease. Chronic kidney disease affects 1 in every 9 adults and your support helps ensure that the services that are so vitally needed by these patients can continue. Come help support not only those suffering with kidney disease\, but the Northeast Kidney Foundation and the boutiques as well! Time of event TBD. Call to inquire about ticket prices.
X-ALT-DESC;FMTTYPE=text/html:The Northeast Kidney Foundation has collaborated once again with local boutiques to put on a fashion show to help raise money and awareness for those who have been affected by kidney disease. Chronic kidney disease affects 1 in every 9 adults and your support helps ensure that the services that are so vitally needed by these patients can continue. Come help support not only those suffering with kidney disease\, but the Northeast Kidney Foundation and the boutiques as well! Time of event TBD. Call to inquire about ticket prices.
LOCATION:Excelsior Springs Banquet Hall 47 Excelsior Ave Saratoga Springs\, NY 12866
UID:e.2254.16957
SEQUENCE:3
DTSTAMP:20260421T002425Z
URL:https://chamber.saratoga.org/events/details/catwalk-for-kidneys-10-16-2016-16957
END:VEVENT

END:VCALENDAR
