BEGIN:VCALENDAR
VERSION:2.0
PRODID:-//ChamberMaster//Event Calendar 2.0//EN
METHOD:PUBLISH
X-PUBLISHED-TTL:P3D
REFRESH-INTERVAL:P3D
CALSCALE:GREGORIAN
BEGIN:VEVENT
DTSTART:20160923T130000Z
DTEND:20160924T200000Z
X-MICROSOFT-CDO-ALLDAYEVENT:FALSE
SUMMARY:Carved Stool with David Salvetti. #942-0923. 2 days. September 23&24
DESCRIPTION:In this class\, students will learn the skills involved in making a cherry stool\, which range from learning how to shape the seat to fitting the legs and crosspieces. This project is a blend of precision woodworking and working by eye\, but by breaking each operation down into simple steps and using jigs\, the work becomes easy. Fastening the legs in place with wedges of a contrasting wood is a hallmark of good craftsmanship and results in a strong joint. This class is an introduction to simple carving and shaping\, as well as skills that can be used in many types of chair making. You will take home a finished product to be proud of.\n\n\nNOTE:  Ages 16 and up
X-ALT-DESC;FMTTYPE=text/html:<pre>\n<span style="font-size:12pt"><span style="font-family:arial\,sans-serif"><span style="color:black">In this class\, students will learn the skills involved in making a cherry stool\, which range from learning how to shape the seat to fitting the legs and crosspieces. This project is a blend of precision woodworking and working by eye\, but by breaking each operation down into simple steps and using jigs\, the work becomes easy. Fastening the legs in place with wedges of a contrasting wood is a hallmark of good craftsmanship and results in a strong joint. This class is an introduction to simple carving and shaping\, as well as skills that can be used in many types of chair making. You will take home a finished product to be proud of.</span></span></span></pre>\n\n<pre>\n<strong><span style="font-size:12pt"><span style="font-family:arial\,sans-serif"><span style="color:black">NOTE:&nbsp\; Ages 16 and up</span></span></span></strong></pre>\n
LOCATION:Adirondack Folk School 51 Main Street Lake Luzerne\, NY 12846
UID:e.2254.16425
SEQUENCE:3
DTSTAMP:20260420T232159Z
URL:https://chamber.saratoga.org/events/details/carved-stool-with-david-salvetti-942-0923-2-days-september-23-24-09-23-2016-16425
END:VEVENT

END:VCALENDAR
