BEGIN:VCALENDAR
VERSION:2.0
PRODID:-//ChamberMaster//Event Calendar 2.0//EN
METHOD:PUBLISH
X-PUBLISHED-TTL:P3D
REFRESH-INTERVAL:P3D
CALSCALE:GREGORIAN
BEGIN:VEVENT
DTSTART:20150718T120000Z
DTEND:20150718T150000Z
X-MICROSOFT-CDO-ALLDAYEVENT:FALSE
SUMMARY:CARS AND COFFEE
DESCRIPTION:The Breakfast Club at the Saratoga Automobile Museum invites those who have passion for everything automotive to please join us\, April - October. Meet us at the museum to share in the freedom of the open road\, refreshments\, car talk\, and of course awesome cars!  Hope to see you there.\n\nThis event is open to Members Only!  \n\nPlease contact Heidi Shull for more information.  heidi.shull@saratogaautomuseum.org.\n\n518.587.1925 x 16
X-ALT-DESC;FMTTYPE=text/html:<p>The Breakfast Club at the Saratoga Automobile Museum invites those who have passion for everything automotive to&nbsp\;please join us\, April - October. Meet us at the museum to share&nbsp\;in the freedom of the open road\,&nbsp\;refreshments\, car talk\,&nbsp\;and of course awesome cars!&nbsp\; Hope to see you there.</p>\n\n<p>This event is open to Members Only!&nbsp\;&nbsp\;<br />\nPlease contact Heidi Shull for more information.&nbsp\; <a href="mailto:heidi.shull@saratogaautomuseum.org">heidi.shull@saratogaautomuseum.org</a>.<br />\n518.587.1925 x 16</p>\n
LOCATION:Saratoga Automobile Museum 110 Avenue of the Pines Saratoga Springs\, NY 12866
UID:e.2254.7649
SEQUENCE:3
DTSTAMP:20260423T040749Z
URL:https://chamber.saratoga.org/events/details/cars-and-coffee-07-18-2015-7649
END:VEVENT

END:VCALENDAR
