BEGIN:VCALENDAR
VERSION:2.0
PRODID:-//ChamberMaster//Event Calendar 2.0//EN
METHOD:PUBLISH
X-PUBLISHED-TTL:P3D
REFRESH-INTERVAL:P3D
CALSCALE:GREGORIAN
BEGIN:VEVENT
DTSTART:20150327T000000Z
DTEND:20150327T020000Z
X-MICROSOFT-CDO-ALLDAYEVENT:FALSE
SUMMARY:Carr Distinguished Interdisciplinary Lecture
DESCRIPTION:Presented by Skidmore alumna Jocelyn Arem\, class of 2004. Arem and her Grammy Award-winning Magic Shop Studio colleagues will showcase the process of reviving\, restoring\, and re-imagining the music in an artist's archive. This presentation will share the archive and listening experience in stages: from the original audiotapes\, to re-mastered recordings\, culminating in a live student performance. 8 p.m.-Filene Recital Hall.  Free and open to the public. For more information call 518-580-5457
X-ALT-DESC;FMTTYPE=text/html:Presented by Skidmore alumna Jocelyn Arem\, class of 2004. Arem and her Grammy Award-winning Magic Shop Studio colleagues will showcase the process of reviving\, restoring\, and re-imagining the music in an artist&#39\;s archive. This presentation will share the archive and listening experience in stages: from the original audiotapes\, to re-mastered recordings\, culminating in a live student performance. 8 p.m.-Filene Recital Hall. &nbsp\;Free and open to the public. For more information call 518-580-5457
LOCATION:Filene Recital Hall\, Skidmore College 815 N Broadway Saratoga Springs\, NY 12866
UID:e.2254.6700
SEQUENCE:3
DTSTAMP:20260423T212100Z
URL:https://chamber.saratoga.org/events/details/carr-distinguished-interdisciplinary-lecture-03-26-2015-6700
END:VEVENT

END:VCALENDAR
