BEGIN:VCALENDAR
VERSION:2.0
PRODID:-//ChamberMaster//Event Calendar 2.0//EN
METHOD:PUBLISH
X-PUBLISHED-TTL:P3D
REFRESH-INTERVAL:P3D
CALSCALE:GREGORIAN
BEGIN:VEVENT
DTSTART:20160728T223000Z
DTEND:20160729T023000Z
X-MICROSOFT-CDO-ALLDAYEVENT:FALSE
SUMMARY:CAPTAIN’s An Unbridled Affair Gala
DESCRIPTION:Join us for CAPTAIN Youth and Family Service's eighth annual gala\, An Unbridled Affair\, on July 28\, 2016\, at the Saratoga Springs\n\nHoliday Inn\, as we honor legends - both human and equine - of the Thoroughbred Racing industry. This year's honorees are trainer Nick Zito\, jockey Javier Castellano\, and thoroughbred American Pharoah. Gala Honorary Chairs Gary Contessa\, a leading Thoroughbred trainer\, and his wife\, Jennifer\, plus Gala Committee Co-Chairs Patricia Novo and Ron Olinsky\, are planning a wonderful event. \n\nThe evening will be marked by elegant fare and beverages\; dancing to the beat of DJ Paul Malo\; live and silent auction items to intrigue\, desire and acquire   and surprises\, of course.  An Unbridled Affair\n\npromises to kick off your Saratoga race season with excitement\, glamour and sizzle to match the thrill of the sport.
X-ALT-DESC;FMTTYPE=text/html:<p><span style="color:#5E5F60\; font-family:helvetica\,sans-serif">Join us for CAPTAIN&nbsp\;Youth and Family Service&#39\;s eighth annual<strong>&nbsp\;</strong>gala<strong>\, An Unbridled Affair\,&nbsp\;</strong>on July 28\, 2016\, at the Saratoga Springs<br />\nHoliday Inn\, as we honor legends - both human and equine - of the Thoroughbred Racing industry<strong>.&nbsp\;This year&#39\;s honorees are trainer Nick Zito\, jockey Javier Castellano\, and thoroughbred American Pharoah.</strong>&nbsp\;Gala Honorary Chairs Gary&nbsp\;Contessa\, a leading Thoroughbred trainer\, and his wife\, Jennifer\, plus Gala&nbsp\;Committee Co-Chairs Patricia Novo and Ron Olinsky\, are planning a wonderful&nbsp\;event.&nbsp\;</span></p>\n\n<p><span style="color:#5E5F60\; font-family:helvetica\,sans-serif">The evening will be marked by&nbsp\;elegant fare and beverages\; dancing to the beat of DJ Paul Malo\; live and&nbsp\;silent auction items to intrigue\, desire and acquire &ndash\; and surprises\, of&nbsp\;course.&nbsp\;&nbsp\;<em>An Unbridled Affair</em><br />\npromises to kick off your Saratoga race season with excitement\, glamour and&nbsp\;sizzle to match the thrill of the sport.</span></p>\n
LOCATION:Holiday Inn Saratoga Springs (on Broadway)
UID:e.2254.16951
SEQUENCE:3
DTSTAMP:20260421T050741Z
URL:https://chamber.saratoga.org/events/details/captain-s-an-unbridled-affair-gala-07-28-2016-16951
END:VEVENT

END:VCALENDAR
