BEGIN:VCALENDAR
VERSION:2.0
PRODID:-//ChamberMaster//Event Calendar 2.0//EN
METHOD:PUBLISH
X-PUBLISHED-TTL:P3D
REFRESH-INTERVAL:P3D
CALSCALE:GREGORIAN
BEGIN:VEVENT
DTSTART:20151018T130000Z
DTEND:20151018T180000Z
X-MICROSOFT-CDO-ALLDAYEVENT:FALSE
SUMMARY:Capital Region Walk for R.I.T.A. Out of the Darkness Community Walk
DESCRIPTION:On Sunday\, October 18\, the Capital Region\, NY Chapter of the American Foundation for Suicide Prevention (AFSP) will host the Walk for R.I.T.A. at the Saratoga County Fairgrounds in Ballston Spa. Pre-registration: www.afsp.org/crnywalks. Registration at the event begins at 9:00 am and the Walk begins at 10:30 am.
X-ALT-DESC;FMTTYPE=text/html:On Sunday\, October 18\, the Capital Region\, NY Chapter of the American Foundation for Suicide Prevention (AFSP) will host the Walk for R.I.T.A. at the Saratoga County Fairgrounds in Ballston Spa. Pre-registration: www.afsp.org/crnywalks. Registration at the event begins at 9:00 am and the Walk begins at 10:30 am.
LOCATION:Saratoga County Fairgrounds\, Ballston Spa NY
UID:e.2254.12326
SEQUENCE:3
DTSTAMP:20260422T160319Z
URL:https://chamber.saratoga.org/events/details/capital-region-walk-for-r-i-t-a-out-of-the-darkness-community-walk-10-18-2015-12326
END:VEVENT

END:VCALENDAR
