BEGIN:VCALENDAR
VERSION:2.0
PRODID:-//ChamberMaster//Event Calendar 2.0//EN
METHOD:PUBLISH
X-PUBLISHED-TTL:P3D
REFRESH-INTERVAL:P3D
CALSCALE:GREGORIAN
BEGIN:VEVENT
DTSTART:20160525T220000Z
DTEND:20160526T010000Z
X-MICROSOFT-CDO-ALLDAYEVENT:FALSE
SUMMARY:Cantina Cocktails for a Cause
DESCRIPTION:Join us for the official Cantina Kids Fun Run Kick-Off Party at Cantina Restaurant! Enjoy open bar\, complimentary appetizers\, and DJ Tru at this pre-party for adults! Limit 80 guests. Casual cocktail attire recommended. Pre-registration is required.
X-ALT-DESC;FMTTYPE=text/html:Join us for the official Cantina Kids Fun Run Kick-Off Party at Cantina Restaurant! Enjoy open bar\, complimentary appetizers\, and DJ Tru at this pre-party for adults! Limit 80 guests. Casual cocktail attire recommended. Pre-registration is required.
LOCATION:Cantina 430 Broadway Saratoga Springs\, New York 12866
UID:e.2254.16393
SEQUENCE:3
DTSTAMP:20260421T160620Z
URL:https://chamber.saratoga.org/events/details/cantina-cocktails-for-a-cause-05-25-2016-16393
END:VEVENT

END:VCALENDAR
