BEGIN:VCALENDAR
VERSION:2.0
PRODID:-//ChamberMaster//Event Calendar 2.0//EN
METHOD:PUBLISH
X-PUBLISHED-TTL:P3D
REFRESH-INTERVAL:P3D
CALSCALE:GREGORIAN
BEGIN:VEVENT
DTSTART:20151119T233000Z
DTEND:20151120T023000Z
X-MICROSOFT-CDO-ALLDAYEVENT:FALSE
SUMMARY:Campagna Restaurant menu tasting and wine pairing event
DESCRIPTION:Wine choices are carefully selected by Empire Wine Merchant's Kelly Newton and Mark Graham will team with Campagna's Chefs\, Ali Benamati and Lauren Bonelli to create a tremendous dining experience.\n\n\n\nFour courses\, four wines - $65.00 (per person)
X-ALT-DESC;FMTTYPE=text/html:<span style="color: rgb(20\, 24\, 35)\; font-family: helvetica\,arial\,sans-serif\; font-size: 14px\;">Wine choices are carefully selected by Empire Wine Merchant&#39\;s Kelly Newton and Mark Graham will team with Campagna&#39\;s Chefs\, Ali Benamati and Lauren Bonelli to create a tremendous dining experience.</span><br />\n<br />\n<span style="color: rgb(20\, 24\, 35)\; font-family: helvetica\,arial\,sans-serif\; font-size: 14px\;">Four courses\, four wines - $65.00 (per person)</span><br />\n<br />\n&nbsp\;
LOCATION:Campagna Restaurant 2452 State Route 9 Suite 109 Malta NY
UID:e.2254.13082
SEQUENCE:3
DTSTAMP:20260422T103306Z
URL:https://chamber.saratoga.org/events/details/campagna-restaurant-menu-tasting-and-wine-pairing-event-11-19-2015-13082
END:VEVENT

END:VCALENDAR
