BEGIN:VCALENDAR
VERSION:2.0
PRODID:-//ChamberMaster//Event Calendar 2.0//EN
METHOD:PUBLISH
X-PUBLISHED-TTL:P3D
REFRESH-INTERVAL:P3D
CALSCALE:GREGORIAN
BEGIN:VEVENT
DTSTART:20160213T153000Z
DTEND:20160213T180000Z
X-MICROSOFT-CDO-ALLDAYEVENT:FALSE
SUMMARY:Camp Saratoga 8K Snowshoe Race
DESCRIPTION:Held at Camp Saratoga\, Wilton Wildlife Preserve & Park. Hilly course\, some single track. Go to www.saratogastryders.org for application and for link to online registration at www.active.com If no snow\, may be a trail race instead. Go to www.runwmac.com for go/no go info. Limited number of Dion Snowshoes available to rent for $5. Call or email early to reserve a pair. Laura Clark 518-581-1278 laura@saragotastryders.org Part of the Dion Snowshoe Series. Entire series schedule at www.runwmac.com
X-ALT-DESC;FMTTYPE=text/html:Held at Camp Saratoga\, Wilton Wildlife Preserve &amp\; Park. Hilly course\, some single track. Go to www.saratogastryders.org for application and for link to online registration at www.active.com If no snow\, may be a trail race instead. Go to www.runwmac.com for go/no go info. Limited number of Dion Snowshoes available to rent for $5. Call or email early to reserve a pair. Laura Clark 518-581-1278 laura@saragotastryders.org Part of the Dion Snowshoe Series. Entire series schedule at www.runwmac.com
LOCATION:Camp Saratoga\, Wilton Wildlife Preserve & Park
UID:e.2254.13121
SEQUENCE:3
DTSTAMP:20260422T022732Z
URL:https://chamber.saratoga.org/events/details/camp-saratoga-8k-snowshoe-race-02-13-2016-13121
END:VEVENT

END:VCALENDAR
