BEGIN:VCALENDAR
VERSION:2.0
PRODID:-//ChamberMaster//Event Calendar 2.0//EN
METHOD:PUBLISH
X-PUBLISHED-TTL:P3D
REFRESH-INTERVAL:P3D
CALSCALE:GREGORIAN
BEGIN:VEVENT
DTSTART:20160624T200000Z
DTEND:20160625T000000Z
X-MICROSOFT-CDO-ALLDAYEVENT:FALSE
SUMMARY:Camacho Powerband Series Cigar Event
DESCRIPTION:Camacho Cigars never disappoint and this year they have "upt the anty"..... With parking lot games\, and a mix-ology booth\, as well as a motorcycle to sit on and rev out to your hearts contention. This is an event you will not want to miss! Camacho's new cigar in the Master-built series will be released\, there will be tons of deals on Camacho\, door prizes and raffles throughout\, Oh and live music!
X-ALT-DESC;FMTTYPE=text/html:<div style="text-align: justify\;"><span style="background-color:rgb(255\, 255\, 255)\; font-family:arial\,sans-serif\; font-size:12px">Camacho Cigars never disappoint and this year they have &quot\;upt the anty&quot\;..... With parking lot games\, and a mix-ology booth\, as well as a motorcycle to sit on and rev out to your hearts contention. This is an event you will not want to miss! Camacho&#39\;s new cigar in the Master-built series will be released\, there will be tons of deals on Camacho\, door prizes and raffles throughout\, Oh and live music!</span></div>\n
LOCATION:Queensbury Cigar & Pipe 1036 State Route 9 Queensbury\, New York 12804
UID:e.2254.17032
SEQUENCE:3
DTSTAMP:20260421T080612Z
URL:https://chamber.saratoga.org/events/details/camacho-powerband-series-cigar-event-06-24-2016-17032
END:VEVENT

END:VCALENDAR
