BEGIN:VCALENDAR
VERSION:2.0
PRODID:-//ChamberMaster//Event Calendar 2.0//EN
METHOD:PUBLISH
X-PUBLISHED-TTL:P3D
REFRESH-INTERVAL:P3D
CALSCALE:GREGORIAN
BEGIN:VEVENT
DTSTART:20180905T230000Z
DTEND:20180906T020000Z
X-MICROSOFT-CDO-ALLDAYEVENT:FALSE
SUMMARY:Caffè Lena Poetry Open Mic featuring Therese Broderick
DESCRIPTION:This monthly event\, hosted by Carol Graser\, takes place on the first Wednesday of every month and includes an open mic reading as well a featured poet. Sign up for the open mic starts at 7:00 and readings start at 7:30. Each open mic poet reads two short poems (less than one page) or one longer poem. All styles of poetry are welcome. The feature this month is Therese Broderick. Therese L. Broderick\, MFA\, MLS\, has served the community of writers in Albany\, New York\, for more than fifteen years in numerous roles\, including board officer and contest judge. Her poems have been published in many venues\, both paper (Poet Lore) and digital (Barzakh)\; and have received several awards\, including an Intro Journals Project prize from the Association of Writers & Writing Programs\, and the Overall Winner prize from The Poetry Project with Poetry Ireland. She is the author of four chapbooks\, the most recent of which\, Green-Weak\, is available for free at redwolfeditions.wordpress.com/blog. Therese can be found on Twitter\, Facebook\, Goodreads\, Linkedin\, and at theresebroderick.wordpress.com.
X-ALT-DESC;FMTTYPE=text/html:This monthly event\, hosted by Carol Graser\, takes place on the first Wednesday of every month and includes an open mic reading as well a featured poet. Sign up for the open mic starts at 7:00 and readings start at 7:30. Each open mic poet reads two short poems (less than one page) or one longer poem. All styles of poetry are welcome. The feature this month is Therese Broderick. Therese L. Broderick\, MFA\, MLS\, has served the community of writers in Albany\, New York\, for more than fifteen years in numerous roles\, including board officer and contest judge. Her poems have been published in many venues\, both paper (Poet Lore) and digital (Barzakh)\; and have received several awards\, including an Intro Journals Project prize from the Association of Writers &amp\; Writing Programs\, and the Overall Winner prize from The Poetry Project with Poetry Ireland. She is the author of four chapbooks\, the most recent of which\, Green-Weak\, is available for free at redwolfeditions.wordpress.com/blog. Therese can be found on Twitter\, Facebook\, Goodreads\, Linkedin\, and at theresebroderick.wordpress.com.
LOCATION:Caffe Lena 47 Phila St Saratoga Springs\, NY 12866
UID:e.2254.36832
SEQUENCE:3
DTSTAMP:20260420T094655Z
URL:https://chamber.saratoga.org/events/details/caff&#232;-lena-poetry-open-mic-featuring-therese-broderick-36832
END:VEVENT

END:VCALENDAR
