BEGIN:VCALENDAR
VERSION:2.0
PRODID:-//ChamberMaster//Event Calendar 2.0//EN
METHOD:PUBLISH
X-PUBLISHED-TTL:P3D
REFRESH-INTERVAL:P3D
CALSCALE:GREGORIAN
BEGIN:VEVENT
DTSTART:20160303T003000Z
DTEND:20160303T030000Z
X-MICROSOFT-CDO-ALLDAYEVENT:FALSE
SUMMARY:Caffe Lena Poetry Open Mic Featuring Rodney Parrot
DESCRIPTION:Takes place on the first Wednesday of every month. Sign ups at 7\, readings at 7:30. Open mic poets read two short poems or one longer poem. All ages & styles welcome. March Feature: Rodney Parrot. Rodney Parrot has a PHD in Asian religion and has written in many forms: academic articles\, a book of Indian philosophy\, a novel\, poetry\, homemade chapbooks\, two ghost written books\, and short stories about his business\, Rescued Art. His newest poetry collection\, Flying\, was published in January 2016 with Northshire Press. He has been a regular at Caffe Lena Poetry for many years and has consistently delighted our audience with his insights\, musical language and imagery.
X-ALT-DESC;FMTTYPE=text/html:Takes place on the first Wednesday of every month. Sign ups at 7\, readings at 7:30. Open mic poets read two short poems or one longer poem. All ages &amp\; styles welcome. March Feature: Rodney Parrot. Rodney Parrot has a PHD in Asian religion and has written in many forms: academic articles\, a book of Indian philosophy\, a novel\, poetry\, homemade chapbooks\, two ghost written books\, and short stories about his business\, Rescued Art. His newest poetry collection\, Flying\, was published in January 2016 with Northshire Press. He has been a regular at Caffe Lena Poetry for many years and has consistently delighted our audience with his insights\, musical language and imagery.
LOCATION:Caffe Lena 47 Phila St. Saratoga Springs\, NY
UID:e.2254.14880
SEQUENCE:3
DTSTAMP:20260422T003516Z
URL:https://chamber.saratoga.org/events/details/caffe-lena-poetry-open-mic-featuring-rodney-parrot-03-02-2016-14880
END:VEVENT

END:VCALENDAR
