BEGIN:VCALENDAR
VERSION:2.0
PRODID:-//ChamberMaster//Event Calendar 2.0//EN
METHOD:PUBLISH
X-PUBLISHED-TTL:P3D
REFRESH-INTERVAL:P3D
CALSCALE:GREGORIAN
BEGIN:VEVENT
DTSTART:20150902T233000Z
DTEND:20150903T013000Z
X-MICROSOFT-CDO-ALLDAYEVENT:FALSE
SUMMARY:Caffe Lena Poetry Open Mic Featuring Alan Catlin & Bruce Bennett
DESCRIPTION:This monthly event\, hosted by Carol Graser\, takes place on the first Wednesday of every month and includes an open mic reading as well as featured poets. Sign up for the open mic starts at 7 and readings start at 7:30. Bruce Bennett is the author of nine volumes of poetry and more than twenty-five poetry chapbooks. He was a co-founder and editor of Field: Contemporary Poetry and Poetics\, and Ploughshares\, and his reviews of contemporary poetry have appeared in the New York Times Book Review\, The Nation\, Harvard Review\, and elsewhere. He was recently selected as the first recipient of the annual Writing the Rockies Lifetime Achievement Award for Excellence in the Teaching of Creative Writing. Alan Catlin has been publishing for parts of five decades which makes him feel like the answer to a baseball trivia question. During that time he has amassed thousands of credits which range from the obscure\, to semi famous\, from Wordsworth's Socks to the Wormwood Review. That\, and a ten trip bus ticket\, will get you from where he lives in Schenectady to Saratoga. For the open mic\, please plan to share one long poem or two short poems\, altogether lasting no more than three to five minutes. All ages and styles welcome.
X-ALT-DESC;FMTTYPE=text/html:This monthly event\, hosted by Carol Graser\, takes place on the first Wednesday of every month and includes an open mic reading as well as featured poets. Sign up for the open mic starts at 7 and readings start at 7:30. Bruce Bennett is the author of nine volumes of poetry and more than twenty-five poetry chapbooks. He was a co-founder and editor of Field: Contemporary Poetry and Poetics\, and Ploughshares\, and his reviews of contemporary poetry have appeared in the New York Times Book Review\, The Nation\, Harvard Review\, and elsewhere. He was recently selected as the first recipient of the annual Writing the Rockies Lifetime Achievement Award for Excellence in the Teaching of Creative Writing. Alan Catlin has been publishing for parts of five decades which makes him feel like the answer to a baseball trivia question. During that time he has amassed thousands of credits which range from the obscure\, to semi famous\, from Wordsworth&#39\;s Socks to the Wormwood Review. That\, and a ten trip bus ticket\, will get you from where he lives in Schenectady to Saratoga. For the open mic\, please plan to share one long poem or two short poems\, altogether lasting no more than three to five minutes. All ages and styles welcome.
LOCATION:Caffe Lena 47 Phila St Saratoga Springs\, NY 12866
UID:e.2254.11274
SEQUENCE:3
DTSTAMP:20260423T003935Z
URL:https://chamber.saratoga.org/events/details/caffe-lena-poetry-open-mic-featuring-alan-catlin-bruce-bennett-09-02-2015-11274
END:VEVENT

END:VCALENDAR
