BEGIN:VCALENDAR
VERSION:2.0
PRODID:-//ChamberMaster//Event Calendar 2.0//EN
METHOD:PUBLISH
X-PUBLISHED-TTL:P3D
REFRESH-INTERVAL:P3D
CALSCALE:GREGORIAN
BEGIN:VEVENT
DTSTART:20160204T003000Z
DTEND:20160204T023000Z
X-MICROSOFT-CDO-ALLDAYEVENT:FALSE
SUMMARY:Caffe Lena Poetry Open Mic Featuring Alan Casline & Stephen Lewandowski
DESCRIPTION:This monthly event\, hosted by Carol Graser\, takes place on the first Wednesday of every month and includes an open mic reading as well as featured poets. Sign up for the open mic starts at 7 and readings start at 7:30. Poet Alan Casline is the editor of Normanskill\, a watershed anthology from the Normanskill watershed and of Rootdrinker\, a long standing magazine of watershed poetics\, art and nonfiction. As Director of Rootdrinker Institute\, he organizes readings & special gatherings for poets\, produces the RD Newsletter and is the editor of Benevolent Bird Press. He is co-founder and on-going chronicler of The Cloudburst Council\, an annual poetics gathering held in the Finger Lakes watershed. Stephen Lewandowski has published thirteen books of poetry\, and his poems and essays have appeared in regional and national environmental and literary journals and anthologies. His two most recent books are Under Foot from May Apple Press in Woodstock\, NY (2014) and Last Settler in the Finger Lakes from Foothills Publishing in Avoca\, NY (2015). He serves as a consultant on watershed analyses for the Canandaigua Lake Watershed Association.
X-ALT-DESC;FMTTYPE=text/html:This monthly event\, hosted by Carol Graser\, takes place on the first Wednesday of every month and includes an open mic reading as well as featured poets. Sign up for the open mic starts at 7 and readings start at 7:30. Poet Alan Casline is the editor of Normanskill\, a watershed anthology from the Normanskill watershed and of Rootdrinker\, a long standing magazine of watershed poetics\, art and nonfiction. As Director of Rootdrinker Institute\, he organizes readings &amp\; special gatherings for poets\, produces the RD Newsletter and is the editor of Benevolent Bird Press. He is co-founder and on-going chronicler of The Cloudburst Council\, an annual poetics gathering held in the Finger Lakes watershed. Stephen Lewandowski has published thirteen books of poetry\, and his poems and essays have appeared in regional and national environmental and literary journals and anthologies. His two most recent books are Under Foot from May Apple Press in Woodstock\, NY (2014) and Last Settler in the Finger Lakes from Foothills Publishing in Avoca\, NY (2015). He serves as a consultant on watershed analyses for the Canandaigua Lake Watershed Association.
LOCATION:Caffe Lena 47 Phila Street Saratoga Springs\, NY 12866
UID:e.2254.13623
SEQUENCE:3
DTSTAMP:20260422T022605Z
URL:https://chamber.saratoga.org/events/details/caffe-lena-poetry-open-mic-featuring-alan-casline-stephen-lewandowski-02-03-2016-13623
END:VEVENT

END:VCALENDAR
