BEGIN:VCALENDAR
VERSION:2.0
PRODID:-//ChamberMaster//Event Calendar 2.0//EN
METHOD:PUBLISH
X-PUBLISHED-TTL:P3D
REFRESH-INTERVAL:P3D
CALSCALE:GREGORIAN
BEGIN:VEVENT
DTSTART:20160228T220000Z
DTEND:20160228T140000Z
X-MICROSOFT-CDO-ALLDAYEVENT:FALSE
SUMMARY:Butterfly Camp-In
DESCRIPTION:Spend the night with the Butterflies! Enjoy a special sleep-over at the science center.  Learn all about the butterflies and why they are so colorful. Enjoy a planetarium show\, dinner\, the butterfly house\, butterfly activities\, and breakfast. One parent or guardian per family must spend the night. Registration and payment required. Call 518-382-7890 x 237. If you want to join the fun but don't want to spend the night\, you can.  Just let us know when registering.
X-ALT-DESC;FMTTYPE=text/html:Spend the night with the Butterflies! Enjoy a special sleep-over at the science center. &nbsp\;Learn all about the butterflies and why they are so colorful. Enjoy a planetarium show\, dinner\, the butterfly house\, butterfly activities\, and breakfast. One parent or guardian per family must spend the night. Registration and payment required. Call 518-382-7890 x 237. If you want to join the fun but don&#39\;t want to spend the night\, you can. &nbsp\;Just let us know when registering.
LOCATION:miSci (museum of innovation and science) 15 Nott Terrace Heights\, Schenectady
UID:e.2254.14436
SEQUENCE:3
DTSTAMP:20260422T022309Z
URL:https://chamber.saratoga.org/events/details/butterfly-camp-in-02-28-2016-14436
END:VEVENT

END:VCALENDAR
