BEGIN:VCALENDAR
VERSION:2.0
PRODID:-//ChamberMaster//Event Calendar 2.0//EN
METHOD:PUBLISH
X-PUBLISHED-TTL:P3D
REFRESH-INTERVAL:P3D
CALSCALE:GREGORIAN
BEGIN:VEVENT
DTSTART:20140917T100000Z
DTEND:20140917T123000Z
X-MICROSOFT-CDO-ALLDAYEVENT:FALSE
SUMMARY:Build Your Marketing Toolkit: A framework for small businesses and organizations - 09/17/2014
DESCRIPTION:Uncover some core\, important marketing concepts and show you how to use these ideas to improve your marketing.Many small businesses and organizations find themselves seeking the right strategies to make their marketing efforts as effective as possible. But with so many different marketing activities that they could focus on\, they often miss some of the important marketing concepts that will help them understand why those activities are so important. We will uncover some core\, important marketing concepts and show you how to use these ideas to improve your marketing.\nAttendees will learn:\n\nWhat marketing really is (and isn't).\nHow marketing has changed in ways that benefit small businesses.\nThe importance of setting marketing goals and objectives.\nThe 4 Pillars of Marketing Success   a framework showing how different marketing activities fit together.\nIt's ok to start small\, to start where you already are.\n\nAgenda\n8:00 AM - Arrival & Networking  \n8:15-9:45 AM - Build Your Marketing Toolkit\n9:45-10:00 AM   Questions & Networking\n10:00-10:30 AM   Live demo of Constant Contact (optional)\nDate: Wednesday September 17\, 2014.\nLocation: Saratoga CoWorks\, 153 Regent Street\, Saratoga Springs\, NY.\nCost: No Charge.\nNote: Street parking available on Regent\, Union Ave and surrounding streets.
X-ALT-DESC;FMTTYPE=text/html:<p>Uncover some core\, important marketing concepts and show you how to use these ideas to improve your marketing.</p><p><span style="line-height: 1.45\;" title="">Many small businesses and organizations find themselves seeking the right strategies to make their marketing efforts as effective as possible. But with so many different marketing </span><em style="line-height: 1.45\;">activities </em><span style="line-height: 1.45\;" title="">that they could focus on\, they often miss some of the important marketing concepts that will help them understand why those activities are so important. We will uncover some core\, important marketing concepts and show you how to use these ideas to improve your marketing.</span></p>\n<p><span style="line-height: 1.45\;" title="">Attendees will learn:</span></p>\n<ol>\n<li>What marketing really is (and isn&rsquo\;t).</li>\n<li>How marketing has changed in ways that benefit small businesses.</li>\n<li>The importance of setting marketing goals and objectives.</li>\n<li>The 4 Pillars of Marketing Success &ndash\; a framework showing how different marketing activities fit together.</li>\n<li>It&rsquo\;s ok to start small\, to start where you already are.</li>\n</ol>\n<p style="text-align: center\;"><strong><span style="text-decoration: underline\;">Agenda</span></strong></p>\n<p><strong>8:00 AM</strong> - Arrival &amp\; Networking <strong>&nbsp\;</strong></p>\n<p><strong>8:15-9:45 AM</strong> - Build Your Marketing Toolkit</p>\n<p><strong>9:45-10:00 AM</strong> &ndash\; Questions &amp\; Networking</p>\n<p><strong>10:00-10:30 AM</strong> &ndash\; Live demo of Constant Contact <em>(optional)</em></p>\n<p style="text-align: center\;"><strong>Date:</strong> Wednesday September 17\, 2014.</p>\n<p style="text-align: center\;"><strong>Location:</strong> Saratoga CoWorks\, 153 Regent Street\, Saratoga Springs\, NY.</p>\n<p style="text-align: center\;"><strong>Cost</strong><strong>: </strong><strong>No Charge.</strong></p>\n<p style="text-align: center\;"><strong><em>Note: Street parking available on Regent\, Union Ave and surrounding streets.</em></strong></p>
LOCATION:Saratoga CoWorks\,
UID:e.2254.3572
SEQUENCE:3
DTSTAMP:20260424T111006Z
URL:https://chamber.saratoga.org/events/details/build-your-marketing-toolkit-a-framework-for-small-businesses-and-organizations-09-17-2014-09-17-2014-3572
END:VEVENT

END:VCALENDAR
