BEGIN:VCALENDAR
VERSION:2.0
PRODID:-//ChamberMaster//Event Calendar 2.0//EN
METHOD:PUBLISH
X-PUBLISHED-TTL:P3D
REFRESH-INTERVAL:P3D
CALSCALE:GREGORIAN
BEGIN:VEVENT
DTSTART:20160808T130000Z
DTEND:20160819T200000Z
X-MICROSOFT-CDO-ALLDAYEVENT:FALSE
SUMMARY:Build a Wee Lassie Canoe with Larry Benjamin. #912-0808. 10 days. August 8-12 and 15-19.
DESCRIPTION:The original "Wee Lassie" was a lapstrake-built open cedar canoe made in 1863 by J. Henry Rushton\, of Canton\, NY. Rushton was one of the most famous canoe builders of his era. George Washington Sears\, who wrote of his adventures under his pen name of "Nessmuk" as he recorded his paddling adventures throughout the Adirondacks\, popularized these small\, finely crafted canoes. Come spend 10 wonderful days at AFS building your own Wee Lassie. You will be guided through every step of the building process. Leave with a beautiful\, lightweight canoe that handles well in the water. Open to all level of student.
X-ALT-DESC;FMTTYPE=text/html:<pre>\n<span style="font-size:12pt"><span style="font-family:arial\,sans-serif"><span style="color:black">The original &ldquo\;Wee Lassie&rdquo\; was a lapstrake-built open cedar canoe made in 1863 by J. Henry Rushton\, of Canton\, NY.&nbsp\;Rushton was one of the most famous canoe builders of his era.&nbsp\;George Washington Sears\, who wrote of his adventures under his pen name of &ldquo\;Nessmuk&rdquo\; as he recorded his paddling adventures throughout the Adirondacks\, popularized these small\, finely crafted canoes. Come spend 10 wonderful days at AFS building your own Wee Lassie. You will be guided through every step of the building process. Leave with a beautiful\, lightweight canoe that handles well in the water. Open to all level of student.</span></span></span></pre>\n
LOCATION:Adirondack Folk School 51 Main Street Lake Luzerne\, NY 12846
UID:e.2254.16100
SEQUENCE:3
DTSTAMP:20260421T021017Z
URL:https://chamber.saratoga.org/events/details/build-a-wee-lassie-canoe-with-larry-benjamin-912-0808-10-days-august-8-12-and-15-19-08-08-2016-16100
END:VEVENT

END:VCALENDAR
