BEGIN:VCALENDAR
VERSION:2.0
PRODID:-//ChamberMaster//Event Calendar 2.0//EN
METHOD:PUBLISH
X-PUBLISHED-TTL:P3D
REFRESH-INTERVAL:P3D
CALSCALE:GREGORIAN
BEGIN:VEVENT
DTSTART:20160706T160000Z
DTEND:20160706T190000Z
X-MICROSOFT-CDO-ALLDAYEVENT:FALSE
SUMMARY:Build a Rustic Birdhouse with Don Polunci. #891-0706.
DESCRIPTION:Anyone can learn to make a rustic birdhouse in just a few hours. A birdhouse is a simple structure with seven basic parts: two sides\, a front and back\, a bottom\, and two pieces for the top. Power tools are not necessary to cut the wood\; it can be done with a handsaw. Using rough-cut lumber\, you will construct a rustic birdhouse that can be functional and/or decorative. Choose from several birdhouse designs. There will be a short discussion about nesting birds\, feeding birds\, and suitable houses for area birds. Participants are encouraged to bring objects (such as old drawer pulls\, door knobs\, hardware\, etc.) from home. Adults and teens welcome\; children ages 10-14 must be accompanied by an adult.\n\n\n\n \n\n\nNOTE: This Adirondack Folk School class will be taking place at the ADIRONDACK MUSEUM in Blue Mountain Lake. Museum members will receive the AFS member price of $45.
X-ALT-DESC;FMTTYPE=text/html:<pre>\n<span style="color:black"><span style="font-family:arial\,sans-serif"><span style="font-size:12.0pt">Anyone can learn to make a rustic birdhouse in just a few hours. A birdhouse is a simple structure with seven basic parts: two sides\, a front and back\, a bottom\, and two pieces for the top. Power tools are not necessary to cut the wood\; it can be done with a handsaw. Using rough-cut lumber\, you will construct a rustic birdhouse that can be functional and/or decorative. Choose from several birdhouse designs. There will be a short discussion about nesting birds\, feeding birds\, and suitable houses for area birds. Participants are encouraged to bring objects (such as old drawer pulls\, door knobs\, hardware\, etc.) from home. Adults and teens welcome\; children ages 10-14 must be accompanied by an adult.</span></span></span></pre>\n\n<pre>\n\n&nbsp\;</pre>\n\n<pre>\n<strong><span style="color:black"><span style="font-family:\n"><span style="font-size:12.0pt">NOTE: This Adirondack Folk School class will be taking place at the ADIRONDACK MUSEUM in Blue Mountain Lake. Museum members will receive the AFS member price of $45.</span></span></span></strong></pre>\n
LOCATION:Adirondack Museum 9097 State Route 30\, Blue Mountain Lake\, NY 12812
UID:e.2254.16938
SEQUENCE:3
DTSTAMP:20260421T050503Z
URL:https://chamber.saratoga.org/events/details/build-a-rustic-birdhouse-with-don-polunci-891-0706-07-06-2016-16938
END:VEVENT

END:VCALENDAR
