BEGIN:VCALENDAR
VERSION:2.0
PRODID:-//ChamberMaster//Event Calendar 2.0//EN
METHOD:PUBLISH
X-PUBLISHED-TTL:P3D
REFRESH-INTERVAL:P3D
CALSCALE:GREGORIAN
BEGIN:VEVENT
DTSTART:20151027T213000Z
DTEND:20151028T010000Z
X-MICROSOFT-CDO-ALLDAYEVENT:FALSE
SUMMARY:Bubbly & Blowouts Spa Party
DESCRIPTION:Everyone loves their hair when they leave the salon.    The perfect blowout is easy for stylists to do. Join us for a chance to learn how to achieve that look at home.  Enjoy light hors d'oeuvres and champagne while our stylists teach you how to achieve the perfect blowout. You will receive a one-on-one consultation and a guided 30-minute blow dry with a Complexions stylists. We will also talk about the hottest fall hair trends and how you can achieve them at home with the tools you have. It's the perfect girl's night out.  Guests will receive a 15% discount on any purchases made that evening\, and can participate in our exclusive promotion: Purchase five blowouts and get the sixth FREE! Space is limited\, so save your spot today with a $25 non-refundable deposit by calling 518.306.5502.
X-ALT-DESC;FMTTYPE=text/html:Everyone loves their hair when they leave the salon.&nbsp\;&nbsp\;&nbsp\; The perfect blowout is easy for stylists to do. Join us for a chance to learn how to achieve that look at home.&nbsp\; Enjoy light hors d&#39\;oeuvres and champagne while our stylists teach you how to achieve the perfect blowout. You will receive a one-on-one consultation and a guided 30-minute blow dry with a Complexions stylists. We will also talk about the hottest fall hair trends and how you can achieve them at home with the tools you have. It&#39\;s the perfect girl&#39\;s night out.&nbsp\; Guests will receive a 15% discount on any purchases made that evening\, and can participate in our exclusive promotion: Purchase five blowouts and get the sixth FREE! Space is limited\, so save your spot today with a $25 non-refundable deposit by calling 518.306.5502.
LOCATION:Complexions Spa 368 Broadway Saratoga Springs
UID:e.2254.12745
SEQUENCE:3
DTSTAMP:20260422T130507Z
URL:https://chamber.saratoga.org/events/details/bubbly-blowouts-spa-party-10-27-2015-12745
END:VEVENT

END:VCALENDAR
