BEGIN:VCALENDAR
VERSION:2.0
PRODID:-//ChamberMaster//Event Calendar 2.0//EN
METHOD:PUBLISH
X-PUBLISHED-TTL:P3D
REFRESH-INTERVAL:P3D
CALSCALE:GREGORIAN
BEGIN:VEVENT
DTSTART:20160208T170000Z
DTEND:20160208T230000Z
X-MICROSOFT-CDO-ALLDAYEVENT:FALSE
SUMMARY:BSNB Community Blood Drive
DESCRIPTION:BSNB will be hosting a community blood drive on Monday\, February 8 from Noon to 6:00 p.m.
X-ALT-DESC;FMTTYPE=text/html:BSNB will be hosting a community blood drive on Monday\, February 8 from Noon to 6:00 p.m.
LOCATION:Ballston Spa National Bank-Corporate Plaza 990 State Route 67\, Ballston Spa\, NY 12020 Malta Community Center 1 Bayberry Drive\, Malta\, NY 12020
UID:e.2254.13613
SEQUENCE:3
DTSTAMP:20260422T022542Z
URL:https://chamber.saratoga.org/events/details/bsnb-community-blood-drive-02-08-2016-13613
END:VEVENT

END:VCALENDAR
